Workbook
Name OLE_LINK2: agreement!#REF!
Name OLE_LINK2: 'Immunity verification'!#REF!
Name OLE_LINK2: 'Visit application'!#REF!

Sheet Visit application
B1: [Form A]
B3: #VALUE! | F3: Visit application
B5: Your personal information | E5: * Full name as it appears on your passport. Please do not use initials.
B6: Family name(s) | F6: Given name(s) | J6: Profile photo (front facing, not snapshots.)
B7: Birth date (YYYY/MM/DD) | F7: Sex
B8: E-mail
B9: Nationality
B11: Your latest appointment in home country | G11: * If affiliated with multiple organizations, please enter the primary one.
B12: Position title | F12: Type of occupation
B13: (Director, Attending, Resident, others) | F13: (Doctor, Nurse, Clinical trainee, Researcher, Others)
B14: Name of organization
B15: Workplace phone
B16: Workplace address
B17: Dates employed (YYYY/MM/DD) | C17: From | F17: To | G17: Current
B18: Website URL of the affiliated organization
B20: Visit plan to NCC
B21: NCC host hospital/unit | F21: Department / Division
B22: Your NCC supervisor(s)
B23: Planned NCC visit dates (YYYY/MM/DD) | D23: From | F23: To
B24: Irregular attendance notes
B25: Objectives * Be specific what you want to learn/ research. * Do not exceed the column
B27: Financial resources for your visit
B28: Name of Grant/Fund
B30: Emergency contact in home country | F30: * Next of kin/relative/close friend we can contact in event of emergency
B31: Name | F31: Address
B32: E-mail | F32: Phone
B33: *Use of provided information will be strictly limited to coordinating visits, or evaluating applications. The information will be protected from all, excluding those directly involved in hosting. Your kind understanding is much appreciated. *Typed forms only please, handwritten forms are not accepted.

Sheet agreement
B3: Confidentiality/Behavior Agreement
B5: Confidentiality
B6: I understand that the National Cancer Center, Japan (NCC) has the legal and ethical responsibility to safeguard the privacy of all patients and to protect the confidentiality of their health information. Therefore, I agree not to disclose any patient health information or NCC operational information that is not publicly available, including:
C9: ・ | D9: Name, birth date, consultation dates, contact information (address, phone number, e-mail address etc.)
C10: ・ | D10: Patient-specific numbers, i.e. social insurance, medical records, patient images (regardless of facial inclusion)
B11: I will not release any such personal or operational information to third parties during or after my visit(s), except in the following cases:
C13: ・ | D13: Information already in my possession prior to the visit(s)
C14: ・ | D14: Information made available to the public after the visit(s) without my involvement
B16: Behavior
B17: I understand that the following bahvior is expected to all visitors to NCC:
C18: ・ | D18: Abiding by Japanese law and all rules and regulations, including those related to infection control set by the Ministry of Health, Labour and Welfare and relavent authorities
C20: ・ | D20: Following all NCC-specific rules and instructions provided by my host and/or supervisor, including department-specific and infection control measures
C22: ・ | D22: Refraining from speaking/acting disrespectfully to any individual, and from abusive or inappropriate behavior
C23: ・ | D23: Avoiding discrimination based on race, gender, place of origin, age, disability/impairment, citizenship, family status or religion
C25: ・ | D25: Limiting access only to areas explicitly permitted by NCC staff, i.e. surgical room in use by my host department
C26: ・ | D26: Refraining from taking photographs/recordings without prior permission
B27: I agree that any failure to comply with the above terms, or knowingly engaging in inappropriate behavior detrimental to NCC, may result in the immediate termination of my visit.
B31: With my signature below, I certify that information provided on this application form is correct and that I agree to the terms outlined above.
B34: Handwritten signature: | F34: Date:(YYYY/MM/DD)
C35: Note: PDF submission is acceptable.

Sheet Immunity verification
A3: Immunity verification
B5: Name | C5: ='Visit application'!$C$6 -> 0 | F5: ='Visit application'!$G$6 -> 0 | J5: Birth Date | L5: ='Visit application'!$C$7 -> 0
B7: All visitors to NCCJ are required to provide either certification of two doses each of the measles, rubella, mumps, and varicella vaccines, or positive antibody test results. Please follow the questions below and fill in the yellow cells.
B9: 1. Do you have certificates for two doses each of the measles, rubella, mumps, and varicella vaccines?
C10: FALSE | D10: Yes, I have all of them.
C11: FALSE | D11: Yes, I have some of them.
D12: FALSE | E12: Measles(rubeola)
D13: FALSE | E13: Rubella
D14: FALSE | E14: Mumps
D15: FALSE | E15: Varicella(Chickenpox)
D16: Please specify the number of vaccinations and the dates.
C17: Vaccinations | F17: Measles(rubeola) | H17: Rubella | J17: Mumps | L17: Chickenpox (varicella)
F18: YYYY/MM/DD | H18: YYYY/MM/DD | J18: YYYY/MM/DD | L18: YYYY/MM/DD
C19: Date of the first vaccination
C20: Date of second vaccination
C21: Number (Automatically entered) | F21: =COUNT(F19:F20) -> 0 | G21: times | H21: =COUNT(H19:H20) -> 0 | I21: times | J21: =COUNT(J19:J20) -> 0 | K21: times | L21: =COUNT(L19:L20) -> 0 | M21: times
B23: =IF(SUM(F21,H21,J21,L21)=8,"No need to fill out the form below. Thank you.","2. Do you have the antibody test results for measles, rubella, mumps, and chickenpox?") -> 2. Do you have the antibody test results for measles, rubella, mumps, and chickenpox?
D24: =IF($B$23="No need to fill out the form below. Thank you.","","Please clearly indicate the antibody titer and date in the yellow cell.") -> Please clearly indicate the antibody titer and date in the yellow cell.
C25: Enzyme Immunoassay Results (EIA-IgG) | F25: Measles(rubeola) | H25: Rubella | J25: Mumps | L25: Chickenpox (varicella)
F26: YYYY/MM/DD | H26: YYYY/MM/DD | J26: YYYY/MM/DD | L26: YYYY/MM/DD
C27: Date of Test
C28: Antibody Titer: positive/negative (only if EIA unavailable)
C29: Required: | F29: >= EIA 16.0 | H29: >= EIA 8.0 | J29: >= EIA 4.0 | L29: >= EIA 4.0
B31: If there are no more yellow cells, it's complete. Thank you.

Sheet AUTO_Surgical center entry
B2: Surgical center entry application
E3: Tsukiji surgical visitors only
B4: To: the Director, National Cancer Center Hospital
B6: Applicant Information
B7: Name (Family name ｜Given name) | D7: ='Visit application'!$C$6 -> 0 | E7: ='Visit application'!$G$6 -> 0
B8: Name of organization | D8: ='Visit application'!$D$14 -> 0
B9: Work address | D9: ='Visit application'!$D$16 -> 0
B10: Type of Occupation | D10: ='Visit application'!$I$12 -> 0
B12: NCC Visit Information
B13: Start date | D13: ='Visit application'!$E$23 -> 0
B14: Final date | D14: ='Visit application'!$G$23 -> 0
B15: Department / Division | D15: ='Visit application'!$H$21 -> 0
B16: NCC Supervisor | D16: ='Visit application'!$D$22 -> 0
B17: Objectives | D17: ='Visit application'!$D$25 -> 0
B18: ="1." -> 1. | C18: All confidential information I am exposed to during the visit will not be disclosed after the completion of the visit.
B19: ="2." -> 2. | C19: I shall enter only the surgical room used by my host department with an explicit permit.
B20: ="3." -> 3. | C20: Should I be found in unauthorized areas, I agree to terminate my visit to NCC immediately and leave the premises.
B21: ="4." -> 4. | C21: I shall follow guidance from my supervisor(s) and hosts at all times during my visit and will only act as permitted.
