Workbook

Sheet 様式1
A1: 【様式1】認定申請誓約書
B5: 国立がん研究センター 理事長 殿
B7: 認定がん相談支援センター 認定申請誓約書
B9: 本紙ならびに以下の資料をもって、国立がん研究センター 「認定がん相談支援センター」 の認定申請をします。申請様式に 記載の内容は、事実と相違ないこと、また、認定要件に基づき、引き続きがん相談対応の体制整備に努めることを誓約します。
B11: 【様式2】 | C11: 申請資格申告書
B12: 【様式3】 | C12: 認定要件申告書
B13: 【様式4】 | C13: 相談体制現状報告書
B14: 【様式5】 | C14: 部門内モニタリング課題取り組み状況
B15: 【様式6】 | C15: 勉強会・事例検討会開催記録
B16: 【様式7】 | C16: がん相談支援センターの支援体制
B17: 【様式8】 | C17: 申請前チェックリスト
B18: 【様式9】 | C18: 体制整備誓約書 | D18: （※様式9は、新規申請時は使用することができません。）
B20: 番号 | C20: 項目名 | D20: 入力欄 | E20: 備考
B21: 1.01 | C21: 申請日 | E21: 【半角】 (yyyy/m/d形式で入力してください →西暦で表示されます。 yyyy:西暦年、m:月、d：日、/:スラッシュ
B22: 1.02 | C22: 申請区分 | E22: ▼を押して【選択】 「1）新規」「2）更新」「3）活動報告」 | F22: 1）新規 | G22: 2）更新 | H22: 3）活動報告
B23: 1.03 | C23: 認定番号 | E23: 「申請区分（1.02）」で、「2）更新」または「3）活動報告」を選択した場合、認定証に記載の8桁の認定番号を入力してください。
B24: 1.04 | C24: 施設名 | E24: 正式名称を入力してください。 ※法人格（独立行政法人、国立／公立大学法人、地方独立行政法人等）は記入不要です。
B25: 1.05 | C25: 郵便番号 | E25: 【半角】「〒」を入れず入力 （例）123-4567
B26: 1.06 | C26: 住所 （都道府県） | E26: ▼を押して【選択】
B27: 1.07 | C27: 住所 （市区町村以降） | E27: 市区町村から入力 丁目と番地は半角数字とハイフン（-）で入力 （例）○○区○○1-1-1
B28: 1.08 | C28: 申請責任者（施設長）
B29: 1.081 | C29: 施設長 役職名 | E29: 役職名を入れてください。 （例、病院長、院長、理事長 等）
B30: 1.082 | C30: 施設長 姓 | E30: 施設長の姓を入れてください。
B31: 1.083 | C31: 施設長 名 | E31: 施設長の名を入れてください。
B32: 1.084 | C32: 申請責任者 （施設長） 氏名 | D32: =D29&" "&D30&" "&D31 | E32: （印）
C33: ※押印してください。電子印鑑ではない場合、押印した書類をPDFファイルにしてご提出ください。↑
D36: 北海道
D37: 青森県
D38: 岩手県
D39: 宮城県
D40: 秋田県
D41: 山形県
D42: 福島県
D43: 茨城県
D44: 栃木県
D45: 群馬県
D46: 埼玉県
D47: 千葉県
... D82: 沖縄県

Sheet 様式2
A1: 【様式2】 申請資格申告書
B5: 認定がん相談支援センター 申請資格申告書
B7: 募集要項「２．認定申請資格」に関する貴施設の現状について、白枠内に記載してください。 なお、申請の際には、募集要項に定める申請資格を全て満たしている必要があります。
A8: （* | B8: 回答必須項目)
B9: 番号 | C9: 項目名 | D9: 入力欄 | E9: 備考
B10: =様式1!$B$24 -> 1.04 | C10: =様式1!C24 -> 施設名 | D10: =様式1!$D$24 -> 0
A11: * | B11: 2.01 | C11: 施設区分 【選択式】 | F11: 1）都道府県がん診療連携拠点病院（国指定） | G11: 2）地域がん診療連携拠点病院（国指定） | H11: 3）特定領域がん診療連携拠点病院（国指定） | I11: 4）地域がん診療病院（国指定） | J11: 5）小児がん拠点病院（国指定） | K11: 6）上記以外の医療機関 | L11: 7）その他医療福祉関連法人等
A12: * | B12: 2.02 | C12: 協議会（または部会等）への 参画状況 【選択式】 | E12: ▼を押して【選択】 「1）なし」「2）あり」 ※ここでいう「協議会（または部会等）」とは、各都道府県の都道府県がん診療連携拠点病院が設置する、がん診療連携協議会（またはその下部組織の相談支援部会等）を指す。 | F12: 1）なし | G12: 2）あり
A13: * | B13: 2.03 | C13: 協議会（または部会等）への 参画状況 | E13: 2.02で「2）あり」を選択した場合の参画状況を入力
A14: * | B14: 2.04 | C14: 協議会（または部会等）の名称 | E14: 2.02で「2）あり」を選択した場合、参画している協議会（または部会等）の正式名称を入力
A15: * | B15: 2.05 | C15: 個人情報の取り扱い状況 【選択式】 | E15: ▼を押して【選択】 1）ガイドラインに基づき個人情報を取り扱っている 2）ガイドライン以外の規程に基づき個人情報を取り扱っている ※ここでいう「ガイドライン」とは、厚生労働省から出されている「医療・介護関係事業者における個人情報の適切な取扱いのためのガイダンス」（平成29年4月14日通知、令和7年6月1日最終改正・施行）を指す。 https://www.mhlw.go.jp/content/001470633.pdf | F15: 1）ガイドラインに基づき個人情報を取り扱っている | G15: 2）ガイドライン以外の規程に基づき個人情報を取り扱っている
B16: 2.06 | C16: 個人情報の取り扱い状況 | E16: 前項で「2)ガイドライン以外の規程に基づき個人情報を取り扱っている」を選択した場合、どのような規程に基づき個人情報を取り扱っているか詳細を入力
B17: 非拠点（国指定拠点病院以外の施設）の場合は、以下の2.07-2.13の項目も入力必須です。
B18: 2.07 | C18: 運営母体団体名 | E18: 運営母体団体名を入力
B19: 2.08 | C19: 運営母体における事業責任者（職名・氏名） | E19: 運営母体における事業責任者の氏名・職名を入力
B20: 2.09 | C20: がん相談支援事業の資金元 | E20: がん相談支援事業の資金元の情報を入力
B21: 2.1 | C21: がん対策の理念に即した活動の 実施状況 【選択式】 | E21: ▼を押して【選択】 1）がん対策の理念に反する活動は行っていない 2）がん対策の理念に抵触する活動を行っている ※ここでいう「がん対策の理念」とは、がん対策基本法やがん対策推進基本計画で掲げられている理念を指す。 https://www.mhlw.go.jp/stf/seisakunitsuite/bunya/0000183313.html | F21: 1）がん対策の理念に反する活動は行っていない | G21: 2）がん対策の理念に抵触する活動を行っている
B22: 2.11 | C22: がん対策の理念に即した活動の 実施状況 | E22: 前項で「2）がん対策の理念に抵触する活動を行っている」を選択した場合、詳細を入力
B23: 2.12 | C23: 科学的根拠が明らかではない 医療の実施状況 【選択式】 （治験を含めた臨床試験、先進医療の枠組みで実施されるものは除く） | E23: ▼を押して【選択】 「1）なし」「2）あり」
B24: 2.13 | C24: 科学的根拠が明らかではない 医療の実施状況 （治験を含めた臨床試験、先進医療の枠組みで実施されるものは除く） | E24: 前項で2を選択した場合、詳細を入力

Sheet 様式3
A1: 【様式3】 認定要件申告書
B3: 認定がん相談支援センター 認定要件申告書
B5: 募集要項「３．認定要件」についてお答えください。 なお、満たしていない要件がある場合は、認定申請を行っても承認されませんのでご留意ください。
B6: 番号 | C6: 項目名 | D6: 入力欄 | E6: 備考
B7: =様式1!B24 -> 1.04 | C7: =様式1!D24 -> 0
B8: 3.01 | C8: 情報公開
B9: 1) | C9: 認定がん相談支援センターとして認定された場合、施設名および活動状況について情報を公開してよい。 | E9: ="（"&$F$9&"／"&$G$9&"）" -> （◎はい／×いいえ） | F9: ◎はい | G9: ×いいえ
B10: 2) | C10: 認定がん相談支援センターとして認定された場合に、活動状況等の最新情報を定期的に提出することを承諾する。 | E10: ="（"&$F$9&"／"&$G$9&"）" -> （◎はい／×いいえ）
B11: 3.02 | C11: がん相談対応の実績
B12: 1) | C12: がんの相談対応を週に20時間以上行っている。 | E12: ="（"&$F$9&"／"&$G$9&"）" -> （◎はい／×いいえ）
B13: 2) | C13: がんの相談対応の実績が6ヶ月以上ある。 | E13: ="（"&$F$9&"／"&$G$9&"）" -> （◎はい／×いいえ）
B14: 3.03 | C14: がん相談対応の体制
B15: 1) | C15: がん相談支援部門内に国立がん研究センター認定がん専門相談員を2名以上を配置している。 | E15: ="（"&$F$9&"／"&$G$9&"）" -> （◎はい／×いいえ）
B16: 2) | C16: がん相談支援部門内に、「がん相談対応の質保証（QA）研修」※（「がん相談対応評価法を用いた相談対応の質保証に関する研修」）を受講した相談員を原則2名配置している。 （新規申請時については、申請年度内に当該研修を受講すると承諾すれば可。） ※「がん相談対応の質保証（QA）研修」 https://www.phrf.jp/csp/csp-hor/cctnp （がん相談教育ネットワーク事業［Cancer Counseling Training Network Program (通称「CCTNP」)］開催） | E16: ="（"&$F$9&"／"&$G$9&"）" -> （◎はい／×いいえ）
B17: 3) | C17: 当該都道府県内の都道府県がん診療連携拠点病院、地域がん診療連携拠点病院、特定領域がん診療連携拠点病院、地域がん診療病院と情報を共有している。 | E17: ="（"&$F$9&"／"&$G$9&"）" -> （◎はい／×いいえ）
B18: 4) | C18: 当該都道府県および地域のがん相談支援体制を整備する一員として積極的に関わっている。 | E18: ="（"&$F$9&"／"&$G$9&"）" -> （◎はい／×いいえ）
B19: 5) | C19: 相談対応を適切かつ円滑に行うために、院内（施設内）の診療科や医療者、患者会等と協力・連携している。 | E19: ="（"&$F$9&"／"&$G$9&"）" -> （◎はい／×いいえ）
B20: 6) | C20: 相談対応を適切かつ円滑に行うために、地域の医療者、患者会等と協力・連携している。 | E20: ="（"&$F$9&"／"&$G$9&"）" -> （◎はい／×いいえ）
B21: 7) | C21: がん相談支援部門の機能について、担当医等から、がん患者及びその家族に対し、周知が図られる体制がある。 | E21: ="（"&$F$9&"／"&$G$9&"）" -> （◎はい／×いいえ）
B22: 8) | C22: がん相談支援機能を有していることについて、院内（施設内）で積極的に周知している。 | E22: ="（"&$F$9&"／"&$G$9&"）" -> （◎はい／×いいえ）
B23: 9) | C23: がん相談支援機能を有していることについて、院外（施設外）で積極的に広報活動をしている。 | E23: ="（"&$F$9&"／"&$G$9&"）" -> （◎はい／×いいえ）
B24: 3.04 | C24: 相談者の情報の保護と無料、匿名でのサービスの保障
C25: がん相談支援部門として以下の対応を行い、かつ明示している。
B26: 1) | C26: がん相談を無料で提供している。 | E26: ="（"&$F$9&"／"&$G$9&"）" -> （◎はい／×いいえ）
B27: 2) | C27: 当該施設外の相談者からのがん相談にも応じている。 | E27: ="（"&$F$9&"／"&$G$9&"）" -> （◎はい／×いいえ）
B28: 3) | C28: 匿名でのがん相談にも応じている。 | E28: ="（"&$F$9&"／"&$G$9&"）" -> （◎はい／×いいえ）
C29: がん相談支援部門の職員が以下の方針に則った対応を行うよう管理・監督している。
B30: 4) | C30: 職務上で知り得た秘密（当該部門を利用したことを含め）を守り、相談者の情報を第三者（担当医を含む）に伝えることはない、また、収集・利用する際には同意を得ている。 | E30: ="（"&$F$9&"／"&$G$9&"）" -> （◎はい／×いいえ）
B31: 5) | C31: 個人情報保護法に則って対応している、また、生命等の保護の必要性があると判断されたときなど、情報共有を行う必要がある場合には、専門的な判断を行っている。 | E31: ="（"&$F$9&"／"&$G$9&"）" -> （◎はい／×いいえ）
B32: 6) | C32: 教育、研究、質保証の取り組みを目的として、がん相談支援部門内で相談者の個人情報を利用する際には、匿名化し、プライバシーを保護している。 | E32: ="（"&$F$9&"／"&$G$9&"）" -> （◎はい／×いいえ）
B33: 7) | C33: 相談者の記録（紙、電子データのいずれの場合も）を適切な環境で管理し、データへのアクセス制限を行っている。 | E33: ="（"&$F$9&"／"&$G$9&"）" -> （◎はい／×いいえ）
B34: 3.05 | C34: すべての相談者に対して守るべき価値観
C35: がん相談支援部門の職員が以下の方針に則った対応を行うよう管理・監督している。
B36: 1) | C36: すべての利用者に対して（属性による偏見や先入観を持たず）公平に対応している。 | E36: ="（"&$F$9&"／"&$G$9&"）" -> （◎はい／×いいえ）
B37: 2) | C37: 中立的な姿勢で、相談者に向き合っている。 | E37: ="（"&$F$9&"／"&$G$9&"）" -> （◎はい／×いいえ）
B38: 3) | C38: 様々な背景や環境により、その人なりのニーズがあることをふまえ、個別性を尊重している。 | E38: ="（"&$F$9&"／"&$G$9&"）" -> （◎はい／×いいえ）
B39: 3.06 | C39: 十分情報を得た上で選択する権利の尊重
C40: がん相談支援部門の職員が以下の方針に則った対応を行うよう管理・監督している。
B41: 1) | C41: 医療者からの科学的根拠に基づく情報をもとに、自分の健康や生活について、相談者が主体的に決定できるよう支えるとともに、その決定を尊重している。 | E41: ="（"&$F$9&"／"&$G$9&"）" -> （◎はい／×いいえ）
B42: 2) | C42: 相談者が自分で選択できるように、科学的根拠に基づく信頼できる情報及び選択肢を提供している。 | E42: ="（"&$F$9&"／"&$G$9&"）" -> （◎はい／×いいえ）
...

Sheet 様式4
A1: 【様式4】 相談体制現状報告書
B5: 認定がん相談支援センター 相談体制現状報告書
B7: 貴がん相談支援部門の相談体制についてその現状を記載ください。 なお、以下項目には「認定がん相談支援センター」として認定された場合にウェブサイト上で公開する情報を含みます。
A8: （* | B8: 回答必須項目) | D8: （※1：pb = 認定後、情報公開予定の項目）
B9: 番号 | C9: 項目名 | D9: ※1 | E9: 入力欄 | F9: 備考
B10: =様式1!B22 -> 1.02 | C10: =様式1!$C$22 -> 申請区分 | E10: =様式1!$D$22 -> 0
B11: =様式1!B23 -> 1.03 | C11: =様式1!$C$23 -> 認定番号 | D11: pb | E11: =IF(様式1!$D$23=0," -",様式1!$D$23) -> -
B12: =様式1!B24 -> 1.04 | C12: =様式1!$C$24 -> 施設名 | D12: pb | E12: =様式1!$D$24 -> 0
B13: =様式1!B25 -> 1.05 | C13: =様式1!$C$25 -> 郵便番号 | E13: =様式1!$D$25 -> 0
B14: =様式1!B27 -> 1.07 | C14: 住所（都道府県） | D14: pb | E14: =様式1!$D$26 -> 0
B15: =様式1!B28 -> 1.08 | C15: 住所（市町村以降） | E15: =様式1!$D$27 -> 0
A16: * | B16: 4.01 | C16: 申請責任者（施設長）氏名 | E16: =IF(様式1!D30=0,"1.102-3施設長姓/名を入力してください。",様式1!D30&" "&様式1!D31) -> 1.102-3施設長姓/名を入力してください。 | F16: （表示されます）※認定申請料振込用紙の支払人名義欄に印字されます。
B17: 4.1 | C17: 申込担当者
A18: * | B18: 4.11 | C18: 氏名 | F18: 【全角】 ※認定申請料請求書の送付先宛名欄に、申請責任者氏名と申込担当者氏名が併記されます。
A19: * | B19: 4.12 | C19: 部署名 | F19: 【全角】 ※認定申請料請求書の送付先宛名欄に印字されます。
A20: * | B20: 4.13 | C20: 電話番号 | F20: 【半角数字のみ】 （例）0123456789 ハイフン（-）は入れない ※提出資料等、確認事項がある場合の連絡先として使用します。
A21: * | B21: 4.14 | C21: メールアドレス | F21: 【半角】 ※提出資料等、確認事項がある場合の連絡先として使用します。
B22: 4.2 | C22: がん相談支援部門
A23: * | B23: 4.21 | C23: がん相談支援部門名 | D23: pb | F23: 【全角】がん相談支援部門の情報（部門名）を入力
A24: * | B24: 4.22 | C24: 直通電話番号 | D24: pb | F24: 【半角数字のみ】 （例）0123456789 ハイフン（-）は入れない
A25: * | B25: 4.23 | C25: 公式HP URL （がん相談支援部門ページ） | D25: pb | F25: 【半角英数字のみ】
A26: * | B26: 4.24 | C26: 前年度のがん相談件数
A27: * | B27: 4.3 | C27: 部門責任者
A28: * | B28: 4.31 | C28: 氏名 | F28: 【全角】
A29: * | B29: 4.32 | C29: 職名 | F29: 【全角】
A30: * | B30: 4.33 | C30: 資格（選択式） | F30: ▼を押して【選択】
A31: * | B31: 4.34 | C31: 資格（入力式） | F31: 前項で「6）その他」を選択した場合、および複数の資格を保有している場合は詳細を入力
A32: * | B32: 4.41 | C32: 認定がん専門相談員情報1（認定1） | F32: 部門内の「認定がん専門相談員」の情報
A33: * | B33: 4.411 | C33: 認定1（認定番号） | F33: 【半角】「認定証に記載されている8桁の認定番号」を入力
A34: * | B34: 4.412 | C34: 認定1（氏名/資格） | F34: 【全角】「氏名/資格」を入力
A35: * | B35: 4.413 | C35: 認定1（指定研修*の受講状況） | F35: ▼を押して【選択】 * 指定研修とは、「がん相談対応の質保証（QA）研修」（「がん相談対応評価法を用いた相談対応の質保証に関する研修」）を指す。募集要項p4参照
A36: * | B36: 4.42 | C36: 認定がん専門相談員情報2（認定2） | F36: 部門内の「認定がん専門相談員」の情報
A37: * | B37: 4.421 | C37: 認定2（認定番号） | F37: 【半角】「認定証に記載されている8桁の認定番号」を入力 | G37: 1）医師 | H37: 2）看護師 | I37: 3）社会福祉士または精神保健福祉士 | J37: 4）臨床心理士または公認心理師 | K37: 5）資格なし | L37: 6）その他
A38: * | B38: 4.422 | C38: 認定2（氏名/資格） | F38: 【全角】「氏名/資格」を入力
A39: * | B39: 4.423 | C39: 認定2（指定研修*の受講状況） | F39: ▼を押して【選択】 * 指定研修とは、「がん相談対応の質保証（QA）研修」（「がん相談対応評価法を用いた相談対応の質保証に関する研修」）を指す。募集要項p4参照
B40: 4.43 | C40: 上記以外の相談員情報
B41: 4.431 | C41: 専従 相談員（氏名/資格） | F41: 【全角】上記で記載していない専従の相談員全員の「氏名/資格」を羅列して入力
B42: 4.432 | C42: 専任 相談員（氏名/資格） | F42: 【全角】上記で記載していない専任の相談員全員の「氏名/資格」を羅列して入力 | G42: 1）受講済み | H42: 2）未受講
B43: 4.433 | C43: 兼任 相談員（氏名/資格） | F43: 【全角】上記で記載していない兼任の相談員全員の「氏名/資格」を羅列して入力
A44: * | B44: 4.434 | C44: 指定研修*修了者の氏名 | F44: * 指定研修修了者2名以上配置が要件となっています。認定相談員（上記認定1、認定2）が指定研修未受講の場合、指定研修を修了している他の相談員の氏名を入力してください。（複数名いる場合は羅列して入力）
...

Sheet 様式5
A1: 【様式5】 部門内モニタリング課題取り組み状況
B4: 部門内モニタリング課題取り組み状況
B6: 過去の部門内モニタリングで上げられた課題（特に組織としての課題）に対して、具体的にどのような取り組みを行ってきたかを記載してください。
B7: （すべてを埋める必要はありません）
B9: 番号 | C9: モニタリング実施日 | D9: モニタリングで上げられた課題 （特に組織としての課題） | E9: 改善のための取り組み方針 | F9: 取り組み状況・進捗・変化したこと （申請日時点）
B10: （例） | C10: ●/● | D10: ●●についての問い合わせが多くなっているが、対応方針が不明確であったため統一する必要がある | E10: ●●に関する院内体制を外来担当部署に確認する | F10: 外来担当部署との連携方法について協議の上決定し、メンバーに周知しマニュアルに追記した。 また外来担当部署と定期的なミーティングを設け、継続的な体制整備を図ることとした。
B11: 5.01
B12: 5.02
B13: 5.03
B14: 5.04
B15: 5.05

Sheet 様式6
A1: 【様式6】 勉強会・事例検討会開催記録
B4: 勉強会・事例検討会開催記録
B6: 部門内モニタリング以外に実施した勉強会・事例検討会の概要を記載してください。
B7: （注） | C7: ここに記載する勉強会・事例検討会は、以下を目安としてください。
B8: 1 | C8: 所要時間：30分以上かけて実施しているもの
B9: 2 | C9: 内容：がんの情報提供や相談対応、日々の実践に活かせるもの
B10: 3 | C10: 参加者：がん相談支援部門内の相談員が主たる参加者であるもの
B11: 4 | C11: 開催のために事前準備を行っているもの（事例資料作成、参考資料準備、講師調整等）
B12: 5 | C12: 日常的に実施しているカンファレンス・申し送りや、各都道府県で実施している研修（III群研修等）は記載対象外
B13: 6 | C13: 部門内モニタリングでの議論を受けて別途開催した勉強会は記載対象とする
B14: （すべてを埋める必要はありません）
B16: 番号 | C16: 開催日 | D16: 開催経緯・目的 | E16: テーマ・内容 | F16: 得られた学び
B17: 6.01
B18: 6.02
B19: 6.03
B20: 6.04
B21: 6.05

Sheet 様式7
A1: 【様式7】 施設におけるがん相談支援センターへの支援体制
B4: がん相談支援センターの支援体制
B6: がん相談支援センターがより活用されるため、またより良く機能するために、施設として取り組んでいることを記載してください。
B8: （すべてを埋める必要はない）
B10: 番号 | C10: 記載の視点 | D10: 施設として取り組んでいること
B11: 7.01 | C11: 相談員の定期的な知識の更新に向けた、施設の配慮、推奨、支援 （指針P15②関連）
B12: 7.02 | C12: がん患者およびその家族が、がん相談支援センターに訪問する体制整備 （指針P15④ア関連）
B13: 7.03 | C13: 相談者からのフィードバック内容を、自施設の質の向上に活用する体制整備 （指針P15⑤関連）
B14: 7.04 | C14: がん相談支援センターと、院内の診療従事者が協働する体制整備 （指針P15⑥関連）
B15: 7.05 | C15: その他の取り組み

Sheet 様式8
A1: 【様式8】 申請前チェックリスト
B3: 申請前チェックリスト
B5: こちらのチェックリストを用いて最終確認をしてください。メールでの申請申込後、事務局からの返信メールに記載された提出先フォルダにアップロードしてください。アップロードの完了後はメールでご一報ください。なお、申請期間内（6月4日まで）は、申請書類の追加および差し替えが可能です。
B7: 番号 | C7: 申請書類 | D7: チェック | E7: 内容
B8: 8.01 | C8: 【様式1】認定申請契約書 | E8: 公印を押印しましたか。電子印鑑ではない場合、押印した書類をPDFファイルにして別途アップロードしてください。
B9: 8.02 | C9: 【様式2】申請資格申告書 | E9: （非拠点の場合）2.07～2.13を記入していますか。
B10: 8.03 | C10: 【様式3】認定要件申告書
B11: 8.04 | C11: 【様式4】相談体制現状報告書
B12: 8.05 | C12: 【様式5】部門内モニタリング課題取り組み状況 | E12: 1つ以上の項目を記入していますか。※すべての枠を埋める必要はありません。
B13: 8.06 | C13: 【様式6】勉強会・事例検討会 開催記録 | E13: 1つ以上の項目を記入していますか。※すべての枠を埋める必要はありません。
B14: 8.07 | C14: 【様式7】施設におけるがん相談支援センターへの支援体制 | E14: 1つ以上の項目を記入していますか。※すべての枠を埋める必要はありません。
B15: 8.08 | C15: 【様式8】申請前チェックリスト | E15: 本シート
B16: 8.09 | C16: （【様式9】体制整備誓約書） | E16: （更新申請希望で要件を満たしていない場合）記入し公印を押印しましたか。 電子印鑑ではない場合は、押印した書類をPDFファイルにして別途アップロードしてください。 ※新規申請時は使用できません
B17: 8.12 | C17: 部門内モニタリングの評価表 (別紙3「がん相談対応評価法」) Excelファイル | E17: 様式4の4.41～4.43に記載されている相談員全員分の評価表(別紙3) がありますか。 ※モニタリングの場で出された意見を集約し、評価表（別紙3）に可能な限り記載し、センター全体のディスカッションが読み取れる形にして提出すること。 ※ 評価表改訂に伴い「部門内モニタリング報告様式」の提出は不要。
B18: 8.1 | C18: 一般向け公開資料 （ホームページ・パンフレット等） PDFファイル もしくは、原本（冊子）のまま郵送も可 | E18: 募集要項の8ページに記載している下記の内容が含まれていますか。 A）運営曜日・時間 B）がん相談を無料で提供していること C）当該施設外の相談者からのがん相談にも応じていること D）匿名でのがん相談にも応じていること E）守秘義務を遵守していること 相談で知りえた情報を、相談者の同意なく第三者（担当医等を含む）に 伝えることはない旨を明記すること。
B19: 8.11 | C19: 相談部門のマニュアル （各項目が何ページに記載されているのかを、右欄に合わせてページ数をご記入ください） PDFファイル | E19: A）秘密保持・個人情報保護について、施設レベルではなく、業務でどのように 実践していくかが具体的に記載されていますか。 （例：院内他部門・他職種との情報共有における注意点、院外連携先との 情報のやりとりにおける注意点、相談対応時の環境面での配慮等） | G19: ページ
E20: B）相談記録の管理について、電子カルテに記録する場合は閲覧権限を付与する など適切な対応について記載されていますか。 | G20: ページ
E21: C）相談員としての価値基準・姿勢について、それぞれの施設で話し合われた 言葉で表現されていますか。 | G21: ページ
E22: D）がん相談部門の業務について、基本計画に基づきながら各施設の役割を踏ま えた内容が記載されていますか。 | G22: ページ
E23: E）部門内モニタリングの実施体制について、実施の方法や頻度についても具体的に 記載されていますか。 （例：事例提供者の事前準備手順、部門内モニタリング参加者が守るべきルール、 開催頻度、参加者等） | G23: ページ
E24: F）情報を評価する体制・評価基準について、記載されていますか。 評価体制について具体的な評価頻度等についても記載されていますか。 現状、どのように情報源を評価しているかが分かる記述を含めること。 （例：信頼できる情報源であるかを評価するための基準としてどのような基準を用いて いるか、情報源評価の実施頻度、実施者等） | G24: ページ
E25: （確認時分かりやすいよう） マニュアルが複数ある場合、目次をつけ一覧で分かるようにしてください。
B26: 8.13 | C26: 相談部門で使用する 情報源リスト PDFファイル | E26: 情報の羅列ではなく、情報に対する評価実施日や評価結果が記載されていますか。
E27: 書籍とウェブサイトの一覧がどちらもありますか。
E28: 書籍については所蔵場所が分かる記載が含まれていますか。
E29: 認定がん相談支援センターにおいては、少なくとも「一般向け診療ガイドラインの解説」を相談対応時に活用できる体制を整備することが望まれます。それらが含まれていますか。
B30: 8.14 | C30: （部会委員証明資料） PDFファイル | E30: ※拠点病院の場合は記入不要です。 （非拠点の場合）書類が準備できていますか。

Sheet 様式9 
A1: 【様式9】 体制整備誓約書
A2: ※様式9は、新規申請時使用することができません。
B4: 国立がん研究センター 理事長 殿
B6: 認定がん相談支援センター 体制整備誓約書
B8: 以下理由により、「国立がん研究センター認定がん相談支援センター」の申請資格・認定要件が不十分となりました。 つきましては、以下の期日までに申請資格・認定要件を満たすよう、改善していくことを誓約いたします。
B10: 番号 | C10: 項目名 | D10: 入力欄 | E10: 備考
B11: =様式1!B22 -> 1.02 | C11: =様式1!C22 -> 申請区分 | D11: =様式1!D22 -> 0
B12: =様式1!B23 -> 1.03 | C12: =様式1!C23 -> 認定番号 | D12: =IF(様式1!$D$23=0," -",様式1!$D$23) -> -
B13: =様式1!B24 -> 1.04 | C13: =様式1!C24 -> 施設名 | D13: =様式1!$D$24 -> 0
B14: 9.01 | C14: 満たすことができなかった申請資格・認定要件の番号 | E14: 様式2または様式3を参照の上、該当する申請資格または認定要件の番号（x.xx）を入力してください。 複数ある場合は、続けて記載してください。 例）33.01、33.02
B15: 9.02 | C15: 理由と現状 | E15: 上記申請資格・認定要件を満たすことができなかった理由と、現在の状況について、詳細を入力してください。
B16: 9.03 | C16: 改善完了予定日 | E16: 原則、1年後の活動報告までに申請資格・認定要件を満たすこと。 【半角】(yyｙｙ/)m/d形式で入力してください。→西暦で表示されます。
C19: 記入日 | D19: =IF(様式1!$D$21=0,F19,様式1!$D$21) -> 1.01申請日を入力してください | F19: 1.01申請日を入力してください
C20: 申請責任者（施設長）氏名 | D20: =IF(様式1!D31=0,F20,様式1!D30&" "&様式1!D31) -> 1.102-3 施設長姓/名を入力してください | E20: （印） | F20: 1.102-3 施設長姓/名を入力してください
C21: ※押印してください。電子印鑑ではない場合、押印した書類をPDFファイルにしてご提出ください。↑

Sheet 事務局用
A1: No | B1: 1.01 | C1: 1.02 | D1: 1.03 | E1: 1.04 | F1: 1.05 | G1: 1.06 | H1: 1.07 | I1: 1.08 | J1: 1.081 | K1: 1.082 | L1: 1.083 | M1: 1.084 | N1: 2.01 | O1: 2.02 | P1: 2.03 | Q1: 2.04 | R1: 2.05 | S1: 2.06 | T1: 2.07 | U1: 2.08 | V1: 2.09 | W1: 2.1 | X1: 2.11 | Y1: 2.12 | Z1: 2.13 | AA1: 3.01 | AB1: 1) | AC1: 2) | AD1: 3.02 | AE1: 1) | AF1: 2) | AG1: 3.03 | AH1: 1) | AI1: 2) | AJ1: 3) | AK1: 4) | AL1: 5) | AM1: 6) | AN1: 7) | AO1: 8) | AP1: 9) | AQ1: 3.04 | AS1: 1) | AT1: 2) | AU1: 3) | AW1: 4) | AX1: 5) | AY1: 6) | AZ1: 7) | BA1: 3.05 | BC1: 1) | BD1: 2) | BE1: 3) | BF1: 3.06 | BH1: 1) | BI1: 2) | BJ1: 3) | BK1: 4) | BL1: 5) | BM1: 3.07 | BO1: 1) | BP1: 2) | BQ1: 3) | BR1: 4) | BS1: 5) | BT1: 3.08 | BU1: 1) | BV1: 2) | BW1: 3) | BX1: 4) | BY1: 5) | BZ1: 6) | CA1: 7) | CB1: 8) | CC1: 9) | CD1: 10) | CE1: 11) | CF1: 12) | CG1: 13) | CH1: 14) | CI1: 15) | CJ1: 16) | CK1: 17) | CL1: 3.09 | CN1: 3.1 | CP1: 3.11 | CR1: 1.04 | CS1: 1.05 | CT1: 1.06 | CU1: 1.07 | CV1: 1.084 | CW1: 4.1 | CX1: 4.11 | CY1: 4.12 | CZ1: 4.13 | DA1: 4.14 | DB1: 4.2 | DC1: 4.21 | DD1: 4.22 | DE1: 4.23 | DF1: 4.24 | DG1: 4.3 | DH1: 4.31 | DI1: 4.32 | DJ1: 4.33 | DK1: 4.34 | DL1: 4.41 | DM1: 4.411 | DN1: 4.412 | DO1: 4.413 | DP1: 4.42 | DQ1: 4.421 | DR1: 4.422 | DS1: 4.423 | DT1: 4.43 | DU1: 4.431 | DV1: 4.432 | DW1: 4.433 | DX1: 4.434 | DY1: 4.5 | DZ1: 4.51 | EA1: 5.011 | EB1: 5.012 | EC1: 5.013 | ED1: 5.014 | EE1: 5.021 | EF1: 5.022 | EG1: 5.023 | EH1: 5.024 | EI1: 5.031 | EJ1: 5.032 | EK1: 5.033 | EL1: 5.034 | EM1: 5.041 | EN1: 5.042 | EO1: 5.043 | EP1: 5.044 | EQ1: 5.051 | ER1: 5.052 | ES1: 5.053 | ET1: 5.054 | EU1: 6.011 | EV1: 6.012 | EW1: 6.013 | EX1: 6.014 | EY1: 6.021 | EZ1: 6.022 | FA1: 6.023 | FB1: 6.024 | FC1: 6.031 | FD1: 6.032 | FE1: 6.033 | FF1: 6.034 | FG1: 6.041 | FH1: 6.042 | FI1: 6.043 | FJ1: 6.044 | FK1: 6.051 | FL1: 6.052 | FM1: 6.053 | FN1: 6.054 | FO1: 7.01 | FP1: 7.02 | FQ1: 7.03 | FR1: 7.04 | FS1: 7.05 | FT1: 9.01 | FU1: 9.02 | FV1: 9.03
A2: 項目名 | B2: 申請日 | C2: 申請区分 | D2: 認定番号 | E2: 施設名 | F2: 郵便番号 | G2: 住所 （都道府県） | H2: 住所 （市区町村以降） | I2: 申請責任者（施設長） | J2: 施設長 役職名 | K2: 施設長 姓 | L2: 施設長 名 | M2: 申請責任者 （施設長） 氏名 | N2: 施設区分 【選択式】 | O2: 協議会（または部会等）への 参画状況 【選択式】 | P2: 協議会（または部会等）への 参画状況 | Q2: 協議会（または部会等）の名称 | R2: 個人情報の取り扱い状況 【選択式】 | S2: 個人情報の取り扱い状況 | T2: 運営母体団体名 | U2: 運営母体における事業責任者（職名・氏名） | V2: がん相談支援事業の資金元 | W2: がん対策の理念に即した活動の 実施状況 【選択式】 | X2: がん対策の理念に即した活動の 実施状況 | Y2: 科学的根拠が明らかではない 医療の実施状況 【選択式】 （治験を含めた臨床試験、先進医療の枠組みで実施されるものは除く） | Z2: 科学的根拠が明らかではない 医療の実施状況 （治験を含めた臨床試験、先進医療の枠組みで実施されるものは除く） | AA2: 情報公開 | AB2: 認定がん相談支援センターとして認定された場合、施設名および活動状況について情報を公開してよい。 | AC2: 認定がん相談支援センターとして認定された場合に、活動状況等の最新情報を定期的に提出することを承諾する。 | AD2: がん相談対応の実績 | AE2: がんの相談対応を週に20時間以上行っている。 | AF2: がんの相談対応の実績が6ヶ月以上ある。 | AG2: がん相談対応の体制 | AH2: がん相談支援部門内に国立がん研究センター認定がん専門相談員を2名以上を配置している。 | AI2: がん相談支援部門内に、「がん相談対応評価表を用いた相談対応の質保証に関する研修」（*1）を受講した相談員を原則2名配置している。 （新規申請時は、申請年度内に当該研修を受講すると承諾しているでも可。） *1 「がん相談対応評価表を用いた相談対応の質保証に関する研修」とは、「がん相談対応評価表」の使い方、「がん相談対応評価表」を用いてのモニタリング等について学ぶことができる、募集要項「別紙1」に記載の研修。 受講者には、当該研修で学習した内容をふまえ、自施設の体制整備を図ることが求められる。 各施設、原則2名は当該研修を受講した相談員をがん相談支援部門内に配置すること。 | AJ2: 当該都道府県内の都道府県がん診療連携拠点病院、地域がん診療連携拠点病院、特定領域がん診療連携拠点病院、地域がん診療病院と情報を共有している。 | AK2: 当該都道府県および地域のがん相談支援体制を整備する一員として積極的に関わっている。 | AL2: 相談対応を適切かつ円滑に行うために、院内（施設内）の診療科や医療者、患者会等と協力・連携している。 | AM2: 相談対応を適切かつ円滑に行うために、地域の医療者、患者会等と協力・連携している。 | AN2: がん相談支援部門の機能について、担当医等から、がん患者及びその家族に対し、周知が図られる体制がある。 | AO2: がん相談支援機能を有していることについて、院内（施設内）で積極的に周知している。 | AP2: がん相談支援機能を有していることについて、院外（施設外）で積極的に広報活動をしている。 | AQ2: 相談者の情報の保護と無料、匿名でのサービスの保障 | AR2: がん相談支援部門として以下の対応を行い、かつ明示している。 | AS2: がん相談を無料で提供している。 | AT2: 当該施設外の相談者からのがん相談にも応じている。 | AU2: 匿名でのがん相談にも応じている。 | AV2: がん相談支援部門の職員が以下の方針に則った対応を行うよう管理・監督している。 | AW2: 職務上で知り得た秘密（当該部門を利用したことを含め）を守り、相談者の情報を第三者（担当医を含む）に伝えることはない、また、収集・利用する際には同意を得ている。 | AX2: 個人情報保護法に則って対応している、また、生命等の保護の必要性があると判断されたときなど、情報共有を行う必要がある場合には、専門的な判断を行っている。 | AY2: 教育、研究、質保証の取り組みを目的として、がん相談支援部門内で相談者の個人情報を利用する際には、匿名化し、プライバシーを保護している。 | AZ2: 相談者の記録（紙、電子データのいずれの場合も）を適切な環境で管理し、データへのアクセス制限を行っている。 | BA2: すべての相談者に対して守るべき価値観 | BB2: がん相談支援部門の職員が以下の方針に則った対応を行うよう管理・監督している。 | BC2: すべての利用者に対して（属性による偏見や先入観を持たず）公平に対応している。 | BD2: 中立的な姿勢で、相談者に向き合っている。 | BE2: 様々な背景や環境により、その人なりのニーズがあることをふまえ、個別性を尊重している。 | BF2: 十分情報を得た上で選択する権利の尊重 | BG2: がん相談支援部門の職員が以下の方針に則った対応を行うよう管理・監督している。 | BH2: 医療者からの科学的根拠に基づく情報をもとに、自分の健康や生活について、相談者が主体的に決定できるよう支えるとともに、その決定を尊重している。 | BI2: 相談者が自分で選択できるように、科学的根拠に基づく信頼できる情報及び選択肢を提供している。 | BJ2: 相談者が知りたくない情報があることを認識し、それを尊重している。 | BK2: 必要な場合には、専門的で、信頼できる利用可能な院内外のサービスにつないでいる。 | BL2: 相談者がその人らしく主体的に決められるように、さまざまな機会や選択肢を提供している。 | BM2: 患者・医師・医療者との関係のサポートと尊重 | BN2: がん相談支援部門の職員が以下の方針に則った対応を行うよう管理・監督している。 | BO2: 医師が行うような診断を行わない。 | BP2: がん相談支援部門で提供する情報は一般的な情報であり、医師が行うような診断や診察に代わるものではないことを明確に伝える。 | BQ2: 相談者が抱えている問題（医療的、身体・心理・社会的問題等）や疑問・要望について、担当医や医療者と相談できるよう支援する。 | BR2: 相談者と担当医や医療者、もしくは患者、家族との関係を支援する。 | BS2: 適切と考えられるときには、相談者にセカンドオピニオンを求める選択肢があることを知らせる。 | BT2: 質の担保の取り組みとPDCA | BU2: すべての利用者に対して質の担保されたサービスを提供している。 | BV2: がんの情報提供や相談対応に関する日々の実践の振り返り、 勉強会や事例検討会などを定期的に実施している。 | BW2: 実際の相談者からの相談を振り返る「がん相談対応のモニタリング（*2）」をがん相談支援部門内で定期的に行っている。 *2 施設内の個人情報保護の方針等に基づいた上で、実際の相談対応を、部門内で定期的に評価し、改善点などを確認することをいう。実施手順等の詳細は、募集要項「別紙2」を参照。 | BX2: 実際の相談対応の音声データに基づいた「がん相談対応のモニタリング」の効果的な実施を目指し、電話相談の録音環境整備に努めている。 | BY2: 「国立がん研究センターコールモニタリング（*3）※以下、コールモニタリング」を定期的に受けている。 （新規申請時については、コールモニタリングを定期的に受けることを承諾している。） *3 認定取得後1年目から2年に1回、国立がん研究センターが実施する模擬電話相談を受けること、並びに録音された相談対応についてフィードバックを受けることをいう。（募集要項「別紙3」参照） | BZ2: 「コールモニタリング」に参加することについて、相談対応にあたる可能性のある全ての相談員から同意を得ている。 | CA2: 認定施設間の相互支援の場（コールモニタリングや認定サロン等）への参加により知り得た情報は口外しないことについて、全ての相談員から同意を得ていること。 | CB2: 「コールモニタリング」のフィードバックを受けた際に、がん相談支援部門の課題改善に向けて建設的に取り組む体制を整えている。 | CC2: 「がん相談対応のモニタリング」および「コールモニタリング」の結果をもとに、改善のための対応や活動を行っている。 | CD2: 適切な教育を受けた相談員により質の保たれたサービスを提供することを保証している。（できる） | CE2: 相談者から定期的にフィードバックを得られるようにしている(ご意見箱等も含む）。 | CF2: 相談者から得たフィードバック内容について吟味・検討し、改善方法について議論、報告する場がある。 | CG2: 相談者から得たフィードバック内容について、がん相談支援部門をはじめ、組織全体として対応方法の改善に役立てている。 | CH2: がんに関するさまざまな分野において、最新の科学的根拠のある情報（各種がん診療ガイドラインの情報等）にアクセスできる状態にしている。 | CI2: 相談業務に活用する情報や資材が、利用者に有用であり、かつ、科学的根拠に基づく信頼できる情報であるかどうかを、がん相談支援部門内で定期的に確認・評価している。 | CJ2: これまでに確認・評価を行ってきた相談業務に活用する情報や資材の名称、その評価結果、評価実施日等について提示することができる。 | CK2: 新しい方向性や研究段階にある情報について、助言・情報提供を依頼・照会できる「医療専門家とのネットワーク（*4）」を持ち、がん相談支援部門として情報を得ることができる。 *4 院内外（施設内外）専門職、都道府県内や全国のがん専門相談員、厚生労働省、国立がん研究センターがん対策研究所等を指す。 | CL2: がん専門相談員の役割 | CM2: 相談者に対して、科学的根拠とがん専門相談員の実践に基づく信頼できる情報提供を行うことによって、その人らしい生活や治療選択ができるように支援している。 | CN2: 相談対応業務を行う際の指針 | CO2: 「がん専門相談員のための学習の手引き～実践に役立つエッセンス～第4版」に示された「がん相談10の原則」を業務の指針として、がん相談支援部門の運営･業務を行っている。 | CP2: 相談支援センターの業務 | CQ2: 「がん診療連携拠点病院等の整備について（令和4年8月1日付け健発0801第16号厚生労働省健康局長通知）」および「がん診療連携拠点病院等の整備に関する指針に関するQ&Aについて（令和4年9月22日付け事務連絡）」に示されている相談支援センターの業務を行っている。 | CR2: 施設名 | CS2: 郵便番号 | CT2: 住所 （都道府県） | CU2: 住所 （市区町村以降） | CV2: 申請責任者 （施設長） 氏名 | CW2: 申込担当者 | CX2: 氏名 | CY2: 部署名 | CZ2: 電話番号 | DA2: メールアドレス | DB2: がん相談支援部門 | DC2: がん相談支援部門名 | DD2: 直通電話番号 | DE2: 公式HP URL （がん相談支援部門ページ） | DF2: 前年度のがん相談件数 | DG2: 部門責任者 | DH2: 氏名 | DI2: 職名 | DJ2: 資格（選択式） | DK2: 資格（入力式） | DL2: 認定がん専門相談員情報1（認定1） | DM2: 認定1（認定番号） | DN2: 認定1（氏名/資格） | DO2: 認定1（指定研修*の受講状況） | DP2: 認定がん専門相談員情報2（認定2） | DQ2: 認定2（認定番号） | DR2: 認定2（氏名/資格） | DS2: 認定2（指定研修*の受講状況） | DT2: 上記以外の相談員情報 | DU2: 専従 相談員（氏名/資格） | DV2: 専任 相談員（氏名/資格） | DW2: 兼任 相談員（氏名/資格） | DX2: 指定研修*修了者の氏名 | DY2: その他 | DZ2: 特記事項 | EA2: モニタリング実施日 | EB2: モニタリングで上げられた課題 （特に組織としての課題） | EC2: 改善のための取り組み方針 | ED2: 取り組み状況・進捗・変化したこと （申請日時点） | EE2: モニタリング実施日 | EF2: モニタリングで上げられた課題 （特に組織としての課題） | EG2: 改善のための取り組み方針 | EH2: 取り組み状況・進捗・変化したこと （申請日時点） | EI2: モニタリング実施日 | EJ2: モニタリングで上げられた課題 （特に組織としての課題） | EK2: 改善のための取り組み方針 | EL2: 取り組み状況・進捗・変化したこと （申請日時点） | EM2: モニタリング実施日 | EN2: モニタリングで上げられた課題 （特に組織としての課題） | EO2: 改善のための取り組み方針 | EP2: 取り組み状況・進捗・変化したこと （申請日時点） | EQ2: モニタリング実施日 | ER2: モニタリングで上げられた課題 （特に組織としての課題） | ES2: 改善のための取り組み方針 | ET2: 取り組み状況・進捗・変化したこと （申請日時点） | EU2: 開催日 | EV2: 開催経緯・目的 | EW2: テーマ・内容 | EX2: 得られた学び | EY2: 開催日 | EZ2: 開催経緯・目的 | FA2: テーマ・内容 | FB2: 得られた学び | FC2: 開催日 | FD2: 開催経緯・目的 | FE2: テーマ・内容 | FF2: 得られた学び | FG2: 開催日 | FH2: 開催経緯・目的 | FI2: テーマ・内容 | FJ2: 得られた学び | FK2: 開催日 | FL2: 開催経緯・目的 | FM2: テーマ・内容 | FN2: 得られた学び | FO2: 施設として取り組んでいること 相談員の定期的な知識の更新に向けた、施設の配慮、推奨、支援 （指針P15②関連） | FP2: 施設として取り組んでいること がん患者およびその家族が、がん相談支援センターに訪問する体制整備 （指針P15④ア関連） | FQ2: 施設として取り組んでいること 相談者からのフィードバック内容を、自施設の質の向上に活用する体制整備 （指針P15⑤関連） | FR2: 施設として取り組んでいること がん相談支援センターと、院内の診療従事者が協働する体制整備 （指針P15⑥関連） | FS2: 施設として取り組んでいること その他の取り組み | FT2: 満たすことができなかった申請資格・認定要件の番号 | FU2: 理由と現状 | FV2: 改善完了予定日
B3: =様式1!D21 -> 0 | C3: =様式1!D22 -> 0 | D3: =様式1!D23 -> 0 | E3: =様式1!D24 -> 0 | F3: =様式1!D25 -> 0 | G3: =様式1!D26 -> 0 | H3: =様式1!D27 -> 0 | I3: =様式1!D28 -> 0 | J3: =様式1!D29 -> 0 | K3: =様式1!D30 -> 0 | L3: =様式1!D31 -> 0 | M3: =様式1!D32 | N3: =様式2!$D$11 -> 0 | O3: =様式2!$D$12 -> 0 | P3: =様式2!$D$13 -> 0 | Q3: =様式2!$D$14 -> 0 | R3: =様式2!$D$15 -> 0 | S3: =様式2!$D$16 -> 0 | T3: =様式2!$D$18 -> 0 | U3: =様式2!$D$19 -> 0 | V3: =様式2!$D$20 -> 0 | W3: =様式2!$D$21 -> 0 | X3: =様式2!$D$22 -> 0 | Y3: =様式2!$D$23 -> 0 | Z3: =様式2!$D$24 -> 0 | AB3: =様式3!$D$9 -> 0 | AC3: =様式3!$D$10 -> 0 | AE3: =様式3!$D$12 -> 0 | AF3: =様式3!$D$13 -> 0 | AH3: =様式3!$D$15 -> 0 | AI3: =様式3!$D$16 -> 0 | AJ3: =様式3!$D$17 -> 0 | AK3: =様式3!$D$18 -> 0 | AL3: =様式3!$D$19 -> 0 | AM3: =様式3!$D$20 -> 0 | AN3: =様式3!$D$21 -> 0 | AO3: =様式3!$D$22 -> 0 | AP3: =様式3!$D$23 -> 0 | AS3: =様式3!$D$26 -> 0 | AT3: =様式3!$D$27 -> 0 | AU3: =様式3!$D$28 -> 0 | AW3: =様式3!$D$30 -> 0 | AX3: =様式3!$D$31 -> 0 | AY3: =様式3!$D$32 -> 0 | AZ3: =様式3!$D$33 -> 0 | BC3: =様式3!$D$36 -> 0 | BD3: =様式3!$D$37 -> 0 | BE3: =様式3!$D$38 -> 0 | BH3: =様式3!$D$41 -> 0 | BI3: =様式3!$D$42 -> 0 | BJ3: =様式3!$D$42 -> 0 | BK3: =様式3!$D$42 -> 0 | BL3: =様式3!$D$42 -> 0 | BO3: =様式3!$D$48 -> 0 | BP3: =様式3!$D$49 -> 0 | BQ3: =様式3!$D$50 -> 0 | BR3: =様式3!$D$51 -> 0 | BS3: =様式3!$D$52 -> 0 | BU3: =様式3!$D$54 -> 0 | BV3: =様式3!$D$55 -> 0 | BW3: =様式3!$D$56 -> 0 | BX3: =様式3!$D$57 -> 0 | BY3: =様式3!$D$58 -> 0 | BZ3: =様式3!$D$59 -> 0 | CA3: =様式3!$D$60 -> 0 | CB3: =様式3!$D$61 -> 0 | CC3: =様式3!$D$62 -> 0 | CD3: =様式3!$D$63 -> 0 | CE3: =様式3!$D$64 -> 0 | CF3: =様式3!$D$65 -> 0 | CG3: =様式3!$D$66 -> 0 | CH3: =様式3!$D$67 -> 0 | CI3: =様式3!$D$68 -> 0 | CJ3: =様式3!$D$69 -> 0 | CK3: =様式3!$D$70 -> 0 | CM3: =様式3!$D$72 -> 0 | CO3: =様式3!$D$74 -> 0 | CQ3: =様式3!$D$76 -> 0 | CR3: =様式4!E12 -> 0 | CS3: =様式4!E13 -> 0 | CT3: =様式4!E14 -> 0 | CU3: =様式4!E15 -> 0 | CV3: =様式4!$E$16 -> 1.102-3施設長姓/名を入力してください。 | CX3: =様式4!$E$18 -> 0 | CY3: =様式4!$E$19 -> 0 | CZ3: =様式4!$E$20 -> 0 | DA3: =様式4!$E$21 -> 0 | DC3: =様式4!$E$23 -> 0 | DD3: =様式4!$E$24 -> 0 | DE3: =様式4!$E$25 -> 0 | DF3: =様式4!$E$26 -> 0 | DH3: =様式4!$E$28 -> 0 | DI3: =様式4!$E$29 -> 0 | DJ3: =様式4!$E$30 -> 0 | DK3: =様式4!$E$31 -> 0 | DM3: =様式4!$E$33 -> 0 | DN3: =様式4!$E$34 -> 0 | DO3: =様式4!$E$35 -> 0 | DQ3: =様式4!$E$37 -> 0 | DR3: =様式4!$E$38 -> 0 | DS3: =様式4!$E$39 -> 0 | DU3: =様式4!$E$41 -> 0 | DV3: =様式4!$E$42 -> 0 | DW3: =様式4!$E$43 -> 0 | DX3: =様式4!$E$44 -> 0 | DZ3: =様式4!$E$46 -> 0 | EA3: =様式5!C11 -> 0 | EB3: =様式5!D11 -> 0 | EC3: =様式5!E11 -> 0 | ED3: =様式5!F11 -> 0 | EE3: =様式5!C12 -> 0 | EF3: =様式5!D12 -> 0 | EG3: =様式5!E12 -> 0 | EH3: =様式5!F12 -> 0 | EI3: =様式5!C13 -> 0 | EJ3: =様式5!D13 -> 0 | EK3: =様式5!E13 -> 0 | EL3: =様式5!F13 -> 0 | EM3: =様式5!C14 -> 0 | EN3: =様式5!D14 -> 0 | EO3: =様式5!E14 -> 0 | EP3: =様式5!F14 -> 0 | EQ3: =様式5!C15 -> 0 | ER3: =様式5!D15 -> 0 | ES3: =様式5!E15 -> 0 | ET3: =様式5!F15 -> 0 | EU3: =様式6!C17 -> 0 | EV3: =様式6!D17 -> 0 | EW3: =様式6!E17 -> 0 | EX3: =様式6!F17 -> 0 | EY3: =様式6!C18 -> 0 | EZ3: =様式6!D18 -> 0 | FA3: =様式6!E18 -> 0 | FB3: =様式6!F18 -> 0 | FC3: =様式6!C19 -> 0 | FD3: =様式6!D19 -> 0 | FE3: =様式6!E19 -> 0 | FF3: =様式6!F19 -> 0 | FG3: =様式6!C20 -> 0 | FH3: =様式6!D20 -> 0 | FI3: =様式6!E20 -> 0 | FJ3: =様式6!F20 -> 0 | FK3: =様式6!C21 -> 0 | FL3: =様式6!D21 -> 0 | FM3: =様式6!E21 -> 0 | FN3: =様式6!F21 -> 0 | FO3: =様式7!$D11 -> 0 | FP3: =様式7!$D12 -> 0 | FQ3: =様式7!$D13 -> 0 | FR3: =様式7!$D14 -> 0 | FS3: =様式7!$D15 -> 0 | FT3: ='様式9 '!$D14 -> 0 | FU3: ='様式9 '!$D15 -> 0 | FV3: ='様式9 '!$D16 -> 0
