Workbook
Name 関係者リスト: [1]委員区分表!$C:$C

Sheet 受託研究算定要領について
A1: 国立がん研究センター東病院受託研究費算定要領
C2: 平成22年7月30日作成 平成25年5月1日改訂 平成29年4月1日改訂
B3: 受託研究費の算定については、原則として本算定要領に基づき算出するものとする。 ただし、依頼者から本算定要領によらない費用算出の要望がある場合は、理事長の許可により実施できるものとする。
B11: ＜各種受託研究費の算定＞
B12: ・治験、製造販売後臨床試験（治験等）に係る費用については、別添1（医薬品）、別添2（医療機器）により算出する。 ・体外診断用医薬品の臨床研究に係る費用については、別添3 により算定する。 ・製造販売後の調査（使用成績調査、特定使用成績調査）係る費用については、別添4 により算定する。 ・副作用・感染症報告に係る費用については、別添5 により算定する。 ・その他の受託研究に係る費用については、別添6 により算定する。
B13: ＜注意事項＞
B14: ・計算結果に小数点以下が発生する場合、小数点以下は切り捨てとする。 ・旅費については、国立がん研究センター旅費規程等に則り算出する。
B16: ＜本要領の適用＞
B17: 本要領は、平成29年4月1日以降の新規審査課題より適用し、本要領作成以前に契約を締結した受託研究については、原則として従前のとおりの取り扱いとする。
B19: ＜費用の算出＞
B20: １．治験、製造販売後臨床試験
B21: ＜算出方法＞ 別添の経費算出基準に則り算出する。 ＜請求方法＞ ・費用の支払い時期は、契約締結時（固定費）及びその後は出来高による請求（症例費）とする。
B22: 1. 初回契約時の算出・請求方法 1）契約単位で算出する費用 ＜算出方法＞別添1（医薬品（治験等）に係る経費算出基準）または、 別添2（医療機器（治験等）に係る経費算出基準）の固定費により算出する。 ＜請求方法＞初回契約締結時に請求する。
B23: 2. 治験薬投与期間中における症例実施時の算出・請求方法 ＜算出方法＞別添1（医薬品（治験等）に係る経費算出基準）または、 別添2（医療機器（治験等）に係る経費算出基準）の症例費により算出する。 ＜請求方法＞症例ごとに、進捗度に応じて、治験薬投与開始後 1期終了時、治験薬投与予定期間到達時、及び治験薬投与終了時に月末締めでとりまとめて翌月を目処に請求する。なお、治験薬投与予定期間到達後は、3月末までの実績に基づき年度ごとに請求する。 ＊具体的な支払い方法については、「症例費に関する1症例あたりの請求方法」を参照。
... B33: ＜算出方法＞ 別添の経費算出基準に則り算出する。 ＜請求方法＞ 原則として、別添の経費算出基準に則り、契約締結時に請求する。使用成績調査・特定使用成績調査については、調査票の受領伝票に基づき請求する。

Sheet 症例費に関する1症例あたりの算出方法
B3: 症例費（治験薬投与期間）に関する1症例あたりの算出方法について
B4: １．第Ⅰ相～製造販売後臨床試験（第Ⅳ相） 共通事項
B5: ・治験薬投与予定期間までの費用を100%として3つの期間に分割し、症例ごとに、進捗度に応じて費用を算出する。 ・投与予定期間超過後は、第3期の期間に基づき、第4期以降も投与終了まで費用を算出する（第Ⅰ・Ⅱ相は10%、第Ⅲ・Ⅳ相,拡大治験は20%）。 ・ただし、治験薬投与期間中における1症例あたりの変動費の上限は200%（第Ⅰ・Ⅱ相は第13期まで、第Ⅲ・Ⅳ相,拡大治験は第8期まで）とする。 ・治験薬投与開始後は予め設定した時期（週）に到達した時点で費用を算出する。 ・なお、治験薬投与終了後に追跡調査がある場合には、投与終了以降は追跡調査費を実績に基づき算出する。
B6: ２．第Ⅰ相、第Ⅱ相の場合：
B7: ・治験薬投与開始に至った症例に対して85%を算出する。 ・第1期、第2期、第3期の設定方法 第1期は、DLT評価期間（週）、Cycle1までの期間（週）又は投与開始後の初回の腫瘍評価時（週）とする。 残りの期間を2つに分割し、１：２で第2期と第3期を設定する。割り切れない場合には第3期を長く設定する。
B8: ３．第Ⅲ相、第Ⅳ相、拡大治験の場合：
B9: ・治験薬投与開始に至った症例に対して75%を算出する ・第1期、第2期、第3期は、 投与予定期間（週）を3で除して設定する。割り切れない場合には第3期を長く設定する。
F10: 治験薬投与終了時期別の請求金額 第Ⅰ相、第Ⅱ相の場合 第1期:85% 第2期:95%（85%+10%） 第3期：100%（85%+15%） 第4期：110%（85%+15%+10%） ・・・
F19: 治験薬投与終了時期別の請求金額 第Ⅲ相、第Ⅳ相の場合 第1期:75% 第2期:95%（75%+20%） 第3期：100%（75%+25%） 第4期：120%（75%+25%+20%） ・・・

Sheet PROFILE入力
A1: 治験依頼者様へ：橙色のセルを入力し、☆印（緑色）のセルはリストから選択してください。 | AB1: 第1期 | AC1: 第2期
B2: 依頼者（名称） | E2: （例）あいうえお株式会社 | AA2: 拡大治験 | AB2: =ROUNDDOWN($C$14/3,0) -> 0 | AC2: =+AB2 -> 0
B3: （代表者職名）（氏名） | E3: （例）代表取締役社長 あいうえお | AA3: Ⅳ相 | AB3: =ROUNDDOWN($C$14/3,0) -> 0 | AC3: =+AB3 -> 0
B4: （住所） | AA4: Ⅲ相 | AB4: =ROUNDDOWN($C$14/3,0) -> 0 | AC4: =+AB4 -> 0
B5: 研究課題名 | E5: 日本語のみ。改行不要 | AA5: Ⅱ相 | AB5: =$C$17 -> 0 | AC5: =ROUNDDOWN(($C$14-$C$17)/3,0) -> 0
A6: ☆ | B6: 区分 | E6: （選択肢） 医薬品 or 医療機器 or 医薬品・医療機器 再生医療等製品の場合はどちらか近い方を選択してください。 | AA6: Ⅰ相 | AB6: =$C$17 -> 0 | AC6: =ROUNDDOWN(($C$14-$C$17)/3,0) -> 0
A7: ☆ | B7: 再生医療等製品の含有・無 | E7: （選択肢） 再生医療等製品を含む or 再生医療等製品を含まない
A8: ☆ | B8: 相の種類 | E8: （選択肢） Ⅳ相, 拡大治験, Ⅲ相, Ⅱ相, Ⅰ相, Ⅰ相（FIH） | AA8: Ⅰ相（first-in-man） | AB8: =$C$17 -> 0 | AC8: =ROUNDDOWN(($C$14-$C$17)/3,0) -> 0
B9: 責任医師名 | E9: 姓と名の間は全角1文字スペースを空けてください。
B10: 契約期間 締結予定月の1日｜満了予定月の末日 | E10: 年月日（西暦）を記入。契約締結予定月の1日と、満了予定月の末日。 記載例：2017/4/1 、2019/3/31
B11: 研究費算定日 | E11: 記載例：2017/3/22
B12: 当院での実施予定症例数 総数 ｜うち今回追加例数 | E12: 半角数値のみ入力。初回契約時は「総数」「うち今回追加例数」に同じ症例数を入力してください。 「うち今回追加例数」が積算書シートの固定費と連動します。
A13: ☆ | B13: CRC | E13: （選択肢） 院内 or ＳＭＯ（３者契約）
B14: 治験薬投与予定期間（週） （想定される平均投与予定期間から設定） | E14: 半角数値のみ入力。
B15: （上記設定根拠理由）→ | E15: 想定される平均投与予定期間から設定。治験薬の投与終了が被験者の原病増悪時までとされている試験においては、国内外で過去に実施された同様の対象患者、デザインの試験等における治験薬投与期間の中央値等を考慮して区分することも可能。その場合は、治験依頼者と治験責任医師で協議・決定してください。
B16: 期間の設定（週） | C16: 第1期 期間 | D16: 第2期_期間
B17: Ⅰ相、Ⅱ相の場合 | D17: =IF(C17="","",VLOOKUP($C$8,$AA$2:$AC$8,3,FALSE)) | E17: 半角数値のみ入力。第1期の期間の週数を入力 Ⅲ相以降の場合は入力しないでください。
B18: （第1期 期間の設定根拠）→ | E18: 記載例：DLT評価期間、Cycle1の期間又は投与後初回の腫瘍評価までの期間
B19: Ⅲ相、拡大治験およびⅣ相（製販後）の場合 | C19: =IF(C8="拡大治験",VLOOKUP($C$8,$AA$2:$AC$8,2,FALSE),IF(C8="Ⅳ相",VLOOKUP($C$8,$AA$2:$AC$8,2,FALSE),IF(C8="Ⅲ相",VLOOKUP($C$8,$AA$2:$AC$8,2,FALSE),""))) | D19: =IF(C8="拡大治験",VLOOKUP($C$8,$AA$2:$AC$8,3,FALSE),IF(C8="Ⅳ相",VLOOKUP($C$8,$AA$2:$AC$8,3,FALSE),IF(C8="Ⅲ相",VLOOKUP($C$8,$AA$2:$AC$8,3,FALSE),""))) | E19: Ⅰ相、Ⅱ相の場合は入力しないでください。 Ⅲ相以降の場合、「相の種類」「治験薬投与予定期間（週）」を入力すると自動的に表示されます。
B20: 整理番号（契約締結後は必須） | E20: 例：K0xxx 初回契約時は空欄。契約締結完了後の手続き（症例数追加時など）には必ず入力してください。
B22: 契約期間延長に伴う治験薬管理経費追加を要する症例数 | D22: =IF(C22="","","治験薬保管期間追加申請") | E22: 半角数値のみ入力。初回契約時は空欄。 原則、実施予定症例数総数のうち、投与完了症例数を除いた数。
B24: 臨床試験研究経費にかかるポイント算出（別紙１）へJUMP
B26: 治験薬管理経費にかかるポイント算出（別紙２）へJUMP
A28: 治験事務室使用欄
B29: 契約日

Sheet 積算書
A1: 本シート（受託研究費積算書）について、初回契約時に記入が必要な項目は、旅費（42-44行目）（必要時）のみです。旅費が発生しない場合は、入力が必要な項目は原則ありません。 拡大治験であって、被験者負担軽減費の支払いがない場合は、57行目の10,000円を0円に変更してください。
M2: 整理番号 | N2: =IF(PROFILE入力!$C$20="","",PROFILE入力!$C$20)
M3: 区 分 | N3: =IF(PROFILE入力!C8="Ⅳ相","□治験","■治験") -> ■治験 | O3: =IF(PROFILE入力!C8="Ⅳ相","■製造販売後臨床試験","□製造販売後臨床試験") -> □製造販売後臨床試験
N4: =IF(PROFILE入力!C6="医療機器","□医薬品","■医薬品") -> ■医薬品 | O4: =IF(PROFILE入力!C6="医薬品","□医療機器","■医療機器") -> ■医療機器
H6: 受 託 研 究 費 積 算 書
A8: 国立がん研究センター理事長 殿 | AC8: 拡大治験 | AD8: =0.25+0.5 -> 0.75 | AE8: 0.2 | AF8: 0.05
N9: 日付 (西暦）： | O9: =IF(PROFILE入力!C11="","",PROFILE入力!C11) | AC9: Ⅳ相 | AD9: =0.25+0.5 -> 0.75 | AE9: 0.2 | AF9: 0.05
AC10: Ⅲ相 | AD10: =0.25+0.5 -> 0.75 | AE10: 0.2 | AF10: 0.05
M11: 治験依頼者 | N11: =PROFILE入力!C2 -> 0 | AC11: Ⅱ相 | AD11: =0.15+0.7 -> 0.85 | AE11: 0.1 | AF11: 0.05
M12: （代表者） | N12: =PROFILE入力!C3 -> 0 | Q12: 印 | AC12: Ⅰ相 | AD12: =0.15+0.7 -> 0.85 | AE12: 0.1 | AF12: 0.05
AC13: Ⅰ相（first-in-man） | AD13: =0.15+0.7 -> 0.85 | AE13: 0.1 | AF13: 0.05
H14: 下記のとおり受託研究を依頼したいので、研究費積算書を提出いたします。
H15: 記
A16: 1 | B16: 研究課題名： | C16: =PROFILE入力!C5 -> 0
A17: 2 | B17: 責任医師： | C17: =PROFILE入力!C9 -> 0 | E17: ( | F17: =VLOOKUP(PROFILE入力!C9,分担医師!A2:C498,3,FALSE) -> #N/A | K17: )
A18: 3 | B18: 予定症例数の総数： | C18: =PROFILE入力!C12 -> 0 | D18: 例 | I18: （うち、今回追加症例数 | J18: =PROFILE入力!D12 -> 0 | K18: 例）
A19: 4 | B19: 治験薬投与予定期間： | C19: =PROFILE入力!C14 -> 0 | D19: 週 | G19: 第1期： | I19: =IF(PROFILE入力!C8="拡大治験",PROFILE入力!C19,IF(PROFILE入力!C8="Ⅳ相",PROFILE入力!C19,IF(PROFILE入力!C8="Ⅲ相",PROFILE入力!C19,PROFILE入力!C17))) -> 0 | K19: 週 | M19: 第2期： | N19: =IF(PROFILE入力!C8="拡大治験",PROFILE入力!D19,IF(PROFILE入力!C8="Ⅳ相",PROFILE入力!D19,IF(PROFILE入力!C8="Ⅲ相",PROFILE入力!D19,PROFILE入力!D17))) | O19: 週
A20: 5 | B20: 研究費積算：
A21: 4 | B21: 契約期間： | C21: =PROFILE入力!D10 -> 0
L22: 固定費 | N22: 症例費（1例あたり）
N23: ① | O23: ② | P23: ③
B24: 研究費項目 | C24: 内 訳 | M24: =別紙１!G26 | N24: =VLOOKUP($M24,$AC$8:$AG$13,2,FALSE) -> #N/A | O24: =VLOOKUP($M24,$AC$8:$AG$13,3,FALSE) -> #N/A | P24: =VLOOKUP($M24,$AC$8:$AG$13,4,FALSE) -> #N/A
B25: １ 謝金
B26: ２ 旅費 | L26: =L44 -> 0
B27: ３ 治験薬管理経費 | C27: =別紙２!I23 -> 0 | D27: ﾎﾟｲﾝﾄ × | E27: =IF($M$24="拡大治験",0.7,IF($M$24="Ⅳ相",0.8,"")) | F27: =IF($M$24="拡大治験","× ",IF($M$24="Ⅳ相","× ","")) | G27: 1000 | H27: 円 | I27: × | J27: =IF(PROFILE入力!C22="",J18,PROFILE入力!C22) -> 0 | K27: 症例 | L27: =IF($M$24="Ⅳ相",ROUNDDOWN(C27*E27*G27*J27,0),IF($M$24="拡大治験",ROUNDDOWN(C27*E27*G27*J27,0),ROUNDDOWN(C27*G27*J27,0))) -> 0
B28: ４ 治験関連システム維持・管理費 | L28: =IF(PROFILE入力!C12=PROFILE入力!D12,IF($M$24="拡大治験",0,500000),0) -> 500000
B29: ５ 備品費
B30: ６ 委託料
B31: ７ 臨床試験研究経費 | C31: =別紙１!J27 -> 0 | D31: ﾎﾟｲﾝﾄ × | E31: =IF($M$24="Ⅳ相",0.8,IF($M$24="拡大治験",0.7,"")) | F31: =IF($M$24="Ⅳ相", "× ",IF($M$24="拡大治験", "× ","")) | G31: 6000 | H31: 円 | M31: =IF($M$24="拡大治験",ROUNDDOWN(C31*E31*G31,0),IF($M$24="Ⅳ相",ROUNDDOWN(C31*E31*G31,0),ROUNDDOWN(C31*G31,0))) -> 0 | N31: =ROUNDDOWN($M31*N24,0) -> #N/A | O31: =ROUNDDOWN($M31*O24,0) -> #N/A | P31: =M31-SUM(N31:O31) -> #N/A
B32: ８ 人件費 | C32: =C31 -> 0 | D32: ﾎﾟｲﾝﾄ × | E32: =IF($M$24="Ⅳ相",0.8,IF($M$24="拡大治験",0.7,"")) | F32: =IF($M$24="Ⅳ相", "× ",IF($M$24="拡大治験", "× ","")) | G32: =IF(PROFILE入力!$C$13="ＳＭＯ（３者契約）",2000,4000) -> 4000 | H32: 円 | M32: =IF($M$24="拡大治験",ROUNDDOWN(C32*E32*G32,0),IF($M$24="Ⅳ相",ROUNDDOWN(C32*E32*G32,0),ROUNDDOWN(C32*G32,0))) -> 0 | N32: =ROUNDDOWN($M32*N24,0) -> #N/A | O32: =ROUNDDOWN($M32*O24,0) -> #N/A | P32: =M32-SUM(N32:O32) -> #N/A
B33: ９ 事務費 | C33: （1～8）の10％ | L33: =ROUNDDOWN(SUM(L25:L31)*10%,0) -> 50000 | M33: =ROUNDDOWN(SUM(M25:M32)*10%,0) -> 0 | N33: =ROUNDDOWN(SUM(N25:N32)*10%,0) -> #N/A | O33: =ROUNDDOWN(SUM(O25:O32)*10%,0) -> #N/A | P33: =ROUNDDOWN(SUM(P25:P32)*10%,0) -> #N/A
B34: １０ 管理費 | C34: （1～9）の30％ | L34: =ROUNDDOWN(SUM(L25:L33)*30%,0) -> 165000 | M34: =ROUNDDOWN(SUM(M25:M33)*30%,0) -> 0 | N34: =ROUNDDOWN(SUM(N25:N33)*30%,0) -> #N/A | O34: =ROUNDDOWN(SUM(O25:O33)*30%,0) -> #N/A | P34: =M34-SUM(N34:O34) -> #N/A
B35: 小計 | C35: （1～10の合計） | L35: =SUM(L25:L34) -> 715000 | M35: =SUM(M25:M34) -> 0 | N35: =SUM(N25:N34) -> #N/A | O35: =SUM(O25:O34) -> #N/A | P35: =SUM(P25:P34) -> #N/A
B36: 消費税 | L36: =ROUNDDOWN(SUM(L25,L27,L28,L29,L30,L33,L34)*10%,0) -> 71500
B37: 合計 | L37: =SUM(L35:L36) -> 786500 | M37: ①治験薬投与に至った症例の費用
M38: ②第2期に至った症例、又は第4期以降の1期分の費用
M39: ③第3期に至った症例の費用
B40: 上記 ２ 旅費にかかる内訳
B41: 費 目 | C41: 内 訳 | L41: 金 額 | M41: 備 考
B42: 運 賃 | D42: 円 ｘ | F42: 名× | G42: 1 | H42: (往復) | L42: 0 | R42: 備考欄の記載例：東病院 ～ 有楽町
...

Sheet 別添1医薬品算定要領
A1: 別添1 医薬品（治験等）に係る経費算出基準
A2: 固定費（契約締結時、又は症例追加時に一括で請求する）
A3: ① | B3: 謝金 | C3: 当該治験の遂行に必要な協力者（専門的・技術的知識の提供者、部外者の治験審査委員等）に対して支払う経費
A5: ② | B5: 旅費 | C5: 当該治験の遂行に必要な旅費
C6: 算出基準：旅費（国立がん研究センター旅費規程等に則る）（依頼者による依頼のあった会議等への参加に必要な旅費）
A7: ③ | B7: 治験薬管理経費 | C7: 治験薬の保存、管理に要する経費
C8: 算出基準： 治験薬管理経費ポイント表（別紙2）のポイント×1,000円×症例数 ＜拡大治験について＞ 上記ポイントに０．７を乗じる ＜製造販売後臨床試験（PⅣ）について＞ 上記ポイントに０．８を乗じる
A9: ④ | B9: 治験関連システム 維持・管理費 | C9: 当該治験に関連する治験関連システムの維持・管理等に要する経費
C10: 初回契約締結時：50万円（拡大治験を除く）
A11: ⑤ | B11: 備品費 | C11: 当該治験において求められている結果を導くために必要不可欠であり、かつ、施設で保有していない機械器具（保有していても当該治験に用いることができない場合を含む）の購入に要する経費
A12: ⑥ | B12: 委託料 | C12: 当該治験に関連する治験審査委員会等の速記委託、治験関係書類の保管会社への保存委託、CRC等治験関連職員の派遣等に要する経費
A14: ⑦ | B14: 事務費 | C14: 当該治験に必要な光熱水料、消耗品費、印刷製本費、通信運搬費、治験審査委員会の事務処理に必要な経費、治験の進行の管理等に必要な経費
C15: 算出基準：上記経費(①～⑥)の１０％
A16: ⑧ | B16: 管理費 | C16: 技術料、機械損料、建物使用料、その他
C17: 算出基準：上記経費（①～⑦）の３０％
A19: 症例費（1例あたりの費用。症例ごとに進捗度に応じて費用を請求する）
A20: ① | B20: 臨床試験研究経費 | C20: 当該治験（治験実施計画作成に関する研究を除く。）に関連して必要となる、類例薬品の研究、対象疾病の研究、施設間の研究協議、補充的な非臨床的研究、講演、文書等作成、関連学会参加経費、モニタリング（治験計画書の範囲内）に要する経費等の研究費
C21: 算出基準： 臨床試験研究経費ポイント算出表（別紙1）（要素A～S）のポイント×6,000円
C22: （*責任医師と合意の上、6,000円を上限として変更することができるものとする。） ＜拡大治験について＞ 上記ポイントに０．７を乗じる ＜製造販売後臨床試験（PⅣ）について＞ 上記ポイントに０．８を乗じる
A23: ② | B23: 人件費 | C23: 当該治験を実施するために必要な職員の雇い上げに必要な経費（報酬、各種手当、社会保険料等）
C24: 算出基準： 臨床試験研究経費ポイント算出表（別紙1）（要素A～S）のポイント×4,000円
C25: （*責任医師と合意の上、4,000円を上限として変更することができるものとする。） ＜拡大治験について＞ 上記ポイントに０．７を乗じる ＜製造販売後臨床試験（PⅣ）について＞ 上記ポイントに０．８を乗じる | D25: ＜3者契約SMOを利用した場合の人件費の算出方法＞ H29(2017).4.1～ ポイント×2,000円とする。 （別添1のすべての人件費に適用）
A26: ③ | B26: 事務費 | C26: =C14 -> 当該治験に必要な光熱水料、消耗品費、印刷製本費、通信運搬費、治験審査委員会の事務処理に必要な経費、治験の進行の管理等に必要な経費
C27: 算出基準：上記経費(①、②)の１０％
A28: ④ | B28: 管理費 | C28: =C16 -> 技術料、機械損料、建物使用料、その他
C29: 算出基準：上記経費（①～③）の３０％
A31: 脱落症例経費（1症例あたりの費用）
A32: ① | B32: 脱落症例経費 | C32: 同意取得後、治験薬投与に至らなかった症例 個々の治験の想定する脱落率等に鑑み、別途相談を行う。
C33: 算出基準： 臨床試験研究経費ポイント算出表（別紙1）（要素I、K～Q）のポイント×6,000円
C34: =C22 -> （*責任医師と合意の上、6,000円を上限として変更することができるものとする。） ＜拡大治験について＞ 上記ポイントに０．７を乗じる ＜製造販売後臨床試験（PⅣ）について＞ 上記ポイントに０．８を乗じる
A35: ② | B35: 人件費 | C35: =C23 -> 当該治験を実施するために必要な職員の雇い上げに必要な経費（報酬、各種手当、社会保険料等）
C36: 算出基準： 臨床試験研究経費ポイント算出表（別紙1）（要素I、K～Q）のポイント×4,000円
C37: =C25 -> （*責任医師と合意の上、4,000円を上限として変更することができるものとする。） ＜拡大治験について＞ 上記ポイントに０．７を乗じる ＜製造販売後臨床試験（PⅣ）について＞ 上記ポイントに０．８を乗じる
A38: ③ | B38: 事務費 | C38: =C14 -> 当該治験に必要な光熱水料、消耗品費、印刷製本費、通信運搬費、治験審査委員会の事務処理に必要な経費、治験の進行の管理等に必要な経費
C39: 算出基準：上記経費(①、②)の１０％
A40: ④ | B40: 管理費 | C40: =C16 -> 技術料、機械損料、建物使用料、その他
C41: 算出基準：上記経費（①～③）の３０％
A43: 被験者負担軽減費
A44: ① | B44: 被験者負担軽減費 | C44: 交通費の負担増等治験参加に伴う被験者の負担を軽減するための経費。
C45: 算出基準：7,000円×来院回数
...

Sheet 別添2医療機器算定要領
A1: 別添2 医療機器（治験等）に係る経費算出基準
A2: 固定費（契約締結時、又は症例追加時に一括で請求する）
A3: ① | B3: 謝金 | C3: =別添1医薬品算定要領!C3 -> 当該治験の遂行に必要な協力者（専門的・技術的知識の提供者、部外者の治験審査委員等）に対して支払う経費
A5: ② | B5: 旅費 | C5: =別添1医薬品算定要領!C5 -> 当該治験の遂行に必要な旅費
C6: =別添1医薬品算定要領!C6 -> 算出基準：旅費（国立がん研究センター旅費規程等に則る）（依頼者による依頼のあった会議等への参加に必要な旅費）
A7: ③ | B7: 治験関連システム 維持・管理費 | C7: =別添1医薬品算定要領!C9 -> 当該治験に関連する治験関連システムの維持・管理等に要する経費
C8: =別添1医薬品算定要領!C10 -> 初回契約締結時：50万円（拡大治験を除く）
A9: ④ | B9: 備品費 | C9: =別添1医薬品算定要領!C11 -> 当該治験において求められている結果を導くために必要不可欠であり、かつ、施設で保有していない機械器具（保有していても当該治験に用いることができない場合を含む）の購入に要する経費
A10: ⑤ | B10: 委託料 | C10: =別添1医薬品算定要領!C12 -> 当該治験に関連する治験審査委員会等の速記委託、治験関係書類の保管会社への保存委託、CRC等治験関連職員の派遣等に要する経費
A12: ⑥ | B12: 事務費 | C12: =別添1医薬品算定要領!C14 -> 当該治験に必要な光熱水料、消耗品費、印刷製本費、通信運搬費、治験審査委員会の事務処理に必要な経費、治験の進行の管理等に必要な経費
C13: 算出基準：上記経費(①～⑤)の１０％
A14: ⑦ | B14: 管理費 | C14: =別添1医薬品算定要領!C16 -> 技術料、機械損料、建物使用料、その他
C15: 算出基準：上記経費（①～⑥）の３０％
A17: 症例費（1例あたりの費用。症例ごとに進捗度に応じて費用を算定する）
A18: ① | B18: =別添1医薬品算定要領!B20 -> 臨床試験研究経費 | C18: =別添1医薬品算定要領!C20 -> 当該治験（治験実施計画作成に関する研究を除く。）に関連して必要となる、類例薬品の研究、対象疾病の研究、施設間の研究協議、補充的な非臨床的研究、講演、文書等作成、関連学会参加経費、モニタリング（治験計画書の範囲内）に要する経費等の研究費
C19: =別添1医薬品算定要領!C21 -> 算出基準： 臨床試験研究経費ポイント算出表（別紙1）（要素A～S）のポイント×6,000円
C20: =別添1医薬品算定要領!C22 -> （*責任医師と合意の上、6,000円を上限として変更することができるものとする。） ＜拡大治験について＞ 上記ポイントに０．７を乗じる ＜製造販売後臨床試験（PⅣ）について＞ 上記ポイントに０．８を乗じる
A21: ② | B21: =別添1医薬品算定要領!B23 -> 人件費 | C21: =別添1医薬品算定要領!C23 -> 当該治験を実施するために必要な職員の雇い上げに必要な経費（報酬、各種手当、社会保険料等）
C22: =別添1医薬品算定要領!C24 -> 算出基準： 臨床試験研究経費ポイント算出表（別紙1）（要素A～S）のポイント×4,000円
C23: =別添1医薬品算定要領!C25 -> （*責任医師と合意の上、4,000円を上限として変更することができるものとする。） ＜拡大治験について＞ 上記ポイントに０．７を乗じる ＜製造販売後臨床試験（PⅣ）について＞ 上記ポイントに０．８を乗じる | D23: ＜3者契約SMOを利用した場合の人件費の算出方法＞ H29(2017).4.1～ ポイント×2,000円とする。 （別添2のすべての人件費に適用）
A24: ③ | B24: =別添1医薬品算定要領!B26 -> 事務費 | C24: =別添1医薬品算定要領!C26 -> 当該治験に必要な光熱水料、消耗品費、印刷製本費、通信運搬費、治験審査委員会の事務処理に必要な経費、治験の進行の管理等に必要な経費
C25: =別添1医薬品算定要領!C27 -> 算出基準：上記経費(①、②)の１０％
A26: ④ | B26: =別添1医薬品算定要領!B28 -> 管理費 | C26: =別添1医薬品算定要領!C28 -> 技術料、機械損料、建物使用料、その他
C27: =別添1医薬品算定要領!C29 -> 算出基準：上記経費（①～③）の３０％
A29: 脱落症例経費（1症例あたりの費用）
A30: ① | B30: =別添1医薬品算定要領!B32 -> 脱落症例経費 | C30: =別添1医薬品算定要領!C32 -> 同意取得後、治験薬投与に至らなかった症例 個々の治験の想定する脱落率等に鑑み、別途相談を行う。
C31: =別添1医薬品算定要領!C33 -> 算出基準： 臨床試験研究経費ポイント算出表（別紙1）（要素I、K～Q）のポイント×6,000円
C32: =別添1医薬品算定要領!C34 -> （*責任医師と合意の上、6,000円を上限として変更することができるものとする。） ＜拡大治験について＞ 上記ポイントに０．７を乗じる ＜製造販売後臨床試験（PⅣ）について＞ 上記ポイントに０．８を乗じる
A33: ② | B33: =別添1医薬品算定要領!B35 -> 人件費 | C33: =別添1医薬品算定要領!C35 -> 当該治験を実施するために必要な職員の雇い上げに必要な経費（報酬、各種手当、社会保険料等）
C34: =別添1医薬品算定要領!C36 -> 算出基準： 臨床試験研究経費ポイント算出表（別紙1）（要素I、K～Q）のポイント×4,000円
C35: =別添1医薬品算定要領!C37 -> （*責任医師と合意の上、4,000円を上限として変更することができるものとする。） ＜拡大治験について＞ 上記ポイントに０．７を乗じる ＜製造販売後臨床試験（PⅣ）について＞ 上記ポイントに０．８を乗じる
A36: ③ | B36: =別添1医薬品算定要領!B38 -> 事務費 | C36: =別添1医薬品算定要領!C38 -> 当該治験に必要な光熱水料、消耗品費、印刷製本費、通信運搬費、治験審査委員会の事務処理に必要な経費、治験の進行の管理等に必要な経費
C37: =別添1医薬品算定要領!C39 -> 算出基準：上記経費(①、②)の１０％
A38: ④ | B38: =別添1医薬品算定要領!B40 -> 管理費 | C38: =別添1医薬品算定要領!C40 -> 技術料、機械損料、建物使用料、その他
C39: =別添1医薬品算定要領!C41 -> 算出基準：上記経費（①～③）の３０％
A42: 被験者負担軽減費
A43: ① | B43: =別添1医薬品算定要領!B44 -> 被験者負担軽減費 | C43: =別添1医薬品算定要領!C44 -> 交通費の負担増等治験参加に伴う被験者の負担を軽減するための経費。
C44: =別添1医薬品算定要領!C45 -> 算出基準：7,000円×来院回数
A47: 画像等複写資料提供費
A48: ① | B48: =別添1医薬品算定要領!B48 -> 画像等複写資料提供費 | C48: =別添1医薬品算定要領!C48 -> 実施計画書に明記されていない原資料の複写作業に要する経費
...

Sheet 別添3体外診算定要領
A1: 別添3 体外診断用医薬品の臨床性能試験に係る経費算出基準
A2: ① | B2: 謝金 | C2: 当該研究の遂行に必要な協力者（専門的・技術的知識の提供者、部外者の審査委員等）に対して支払う経費
A4: ② | B4: 旅費 | C4: 当該研究の遂行に必要な旅費
C5: 算出基準：旅費（国立がん研究センター旅費規程等に則る）（依頼者による依頼のあった会議等への参加に必要な旅費）
A6: ③ | B6: 臨床性能試験等 研究経費 | C6: 当該研究に関連して必要となる、類例体外診断用医薬品の研究、施設間の研究協議、文書等作成、関連学会参加費、モニタリング（治験実施計画書の範囲内）に要する経費等の研究費
C7: 算出基準： 臨床性能試験研究経費ポイント算出表（別紙３）（要素A～G）又は 相関及び性能試験研究経費ポイント算出表（別紙４）（要素A～E）のポイント数×6,000円 （*責任医師と合意の上、6,000円を上限として変更することができるものとする。）
A8: ④ | B8: 備品費 | C8: 当該研究において求められている結果を導くために必要不可欠であり、かつ、施設で保有していない機械器具（保有していても当該試験に用いることができない場合を含む）の購入に要する経費
A9: ⑤ | B9: 人件費 | C9: 当該研究を実施するために必要な職員の雇い上げに必要な経費（報酬、各種手当、社会保険料等）
C10: 臨床性能試験研究経費ポイント算出表（別紙３）（要素A～G）又は 相関及び性能試験研究経費ポイント算出表（別紙４）（要素A～E）のポイント数×4,000円 （*責任医師と合意の上、4,000円を上限として変更することができるものとする。）
A11: ⑥ | B11: 事務費 | C11: 当該研究に必要な光熱水料、消耗品費、印刷製本費、通信運搬費、審査委員会の事務処理に必要な経費、研究の進行の管理等に必要な経費。
C12: 算出基準：上記経費(①～⑤)の１０％
A13: ⑦ | B13: 管理費 | C13: 技術料、機械損料、建物使用料、その他
C14: 算出基準：技術料、機械損料、建物使用料等として上記経費（①～⑥）の３０％

Sheet 別添4使用成績調査
A1: 別添4 製造販売後の調査に係る経費算出基準 （使用成績調査・特定使用成績調査）
A2: ① | B2: 報告書作成経費 | C2: 報告書作成経費は、１症例１報告書当たりの単価に症例数を乗じたものとし、追加調査をすることにより、１症例当たり複数の報告書を作成する場合は、それぞれの報告書を１報告書として取り扱うものとする。
C3: 算出基準： １症例１報告書当たりの単価×報告回数×症例数 １症例１報告書当たりの単価： 使用成績調査：２０，０００円 特定使用成績調査：３０，０００円
A4: ② | B4: 事務費 | C4: 当該調査に必要な光熱水料、消耗品費、印刷製本費、通信運搬費、治験審査委員会の事務処理に必要な経費、研究の進行の管理等に必要な経費。
C5: 算出基準：上記経費(①)の１０％

Sheet 別添5副作用・感染算定要領
A1: 別添5 製造販売後の調査に係る経費算出基準 （副作用・感染症報告経費）
A2: ① | B2: 報告書作成経費 | C2: 報告書作成経費は、１症例１報告書当たりの単価に症例数を乗じたものとし、追加調査をすることにより、１症例当たり複数の報告書を作成する場合は、それぞれの報告書を１報告書として取り扱うものとする。
C3: 算出基準： １症例１報告書当たりの単価×報告回数×症例数 １症例１報告書当たりの単価：２０，０００円
A4: ② | B4: 事務費 | C4: 当該調査に必要な光熱水料、消耗品費、印刷製本費、通信運搬費、治験審査委員会の事務処理に必要な経費、研究の進行の管理等に必要な経費。
C5: 算出基準：上記経費(①)の１０％

Sheet 別添6その他の受託研究
A1: 別添6 その他の受託研究に係る経費算出基準
A2: ① | B2: 謝金 | C2: 当該研究の遂行に必要な協力者（専門的・技術的知識の提供者、部外者の審査委員等）に対して支払う経費
A3: ② | B3: 旅費 | C3: 当該研究の遂行に必要な旅費
C4: 算出基準：旅費（国立がん研究センター旅費規程等に則る）（依頼者による依頼のあった会議等への参加に必要な旅費）
A5: ③ | B5: 臨床試験等研究経費 | C5: 当該研究に関連して必要となる研究経費
C6: 算出基準：当該研究に従事する職員の延所要時間数×勤務時間1時間あたりの給与単価 *延所要時間数は、過去の受託研究の実績及び以下の点を勘案して算出することとし、診療行為にかかる時間は除くものとする。なお、過去の実績がないものについては類似の受託研究を参考とする。 ・研究依頼者及び病院内部との連絡調整、研究実施計画の作成等に要する事前調整に要する時間 ・症例・試験データの記録及び研究のための出張準備、目的地での資料収集、情報交換、関連調査等に要する実施時時間 ・委託者から要請のあった症例報告等研究結果にかかる連絡調整、報告作業等に要する事後整理時間
A7: ④ | B7: 備品費 | C7: 当該研究において求めらている結果を導くために必要不可欠であり、かつ、施設で保有していない機械器具（保有していても当該試験に用いることができない場合を含む）の購入に要する経費
A8: ⑤ | B8: 人件費 | C8: 当該研究に従事する職員にかかる人件費（給与、各種手当等）
A9: ⑥ | B9: 委託料 | C9: 当該研究に関連する審査委員会等の速記委託、関係書類の保管会社への保存委託等に要する経費
A11: ⑦ | B11: 事務費 | C11: 当該研究に必要な光熱水料、消耗品費、印刷製本費、通信運搬費、審査委員会等の事務処理に必要な経費、研究の進行の管理等に必要な経費。
C12: 算出基準：上記経費(①～⑥)の１０％
A13: ⑧ | B13: 管理費 | C13: 技術料、機械損料、建物使用料、その他①～⑦に該当しない受託研究関連経費
C14: 算出基準：技術料、機械損料、建物使用料等として上記経費（①～⑦）の３０％

Sheet 別紙１
L1: 別紙１ | AD1: なし | AF1: 0
D2: 臨床試験研究経費ポイント算出表 | K2: =IF(PROFILE入力!$C$20="","",PROFILE入力!$C$20) | AD2: Ⅰ | AE2: 拡大治験 | AF2: 1
B3: 個々の治験について、要素毎に該当するポイントを求め、そのポイントを合計したものをその試験のポイント数とする。 | AD3: Ⅰ | AE3: Ⅳ相 | AF3: 1
G4: ↓ ↓入力してください | L4: * 1回あたり | AD4: Ⅰ | AE4: Ⅲ相 | AF4: 1
C5: ウエイト | E5: ポ イ ン ト | G5: 緑：選択 | M5: ★G列（症例）、H列（脱落）、28行目（症例の範囲）をすべて埋めてください。（0回の場合は0と入力） | AD5: Ⅰ | AE5: Ⅱ相 | AF5: 1
B6: 要 素 | D6: Ⅰ | E6: Ⅱ | F6: Ⅲ | G6: 橙：入力 | J6: ポイント数 | M6: ★エクセルの計算式は変更しないでください。 | AD6: Ⅱ | AE6: Ⅰ相 | AF6: 3
D7: （ウエイト×1） | E7: （ウエイト×3） | F7: （ウエイト×5） | G7: 症例 | H7: 脱落 | I7: 追跡 | J7: 症例 | K7: 脱落 | L7: 追跡 * | AD7: Ⅲ | AE7: Ⅰ相（first-in-man） | AF7: 5
A8: A | B8: 入院・外来の別 | C8: 1 | D8: 外来 | E8: 入院 | J8: =IF(G8="","",$C8*AA8) | K8: =IF(H8="","",$C8*AB8) | L8: =IF(I8="","",$C8*AC8) | AA8: =VLOOKUP(G8,$AD$1:$AF$7,3,FALSE) -> #N/A | AB8: =VLOOKUP(H8,$AD$1:$AF$7,3,FALSE) -> #N/A | AC8: =VLOOKUP(I8,$AD$1:$AF$7,3,FALSE) -> #N/A
A9: B | B9: 治験薬製造承認の状況 | C9: 1 | D9: 他の適応に 国内で承認 | E9: 同一適応に 欧米で承認 | F9: 未承認 | J9: =IF(G9="","",$C9*AA9) | K9: =IF(H9="","",$C9*AB9) | L9: =IF(I9="","",$C9*AC9) | AA9: =VLOOKUP(G9,$AD$1:$AF$7,3,FALSE) -> #N/A | AB9: =VLOOKUP(H9,$AD$1:$AF$7,3,FALSE) -> #N/A | AC9: =VLOOKUP(I9,$AD$1:$AF$7,3,FALSE) -> #N/A
A10: C | B10: デザイン | C10: 2 | D10: 非盲検・非対照 | E10: 非盲検・対照 | F10: 盲検・対照 | J10: =IF(G10="","",$C10*AA10) | K10: =IF(H10="","",$C10*AB10) | L10: =IF(I10="","",$C10*AC10) | AA10: =VLOOKUP(G10,$AD$1:$AF$7,3,FALSE) -> #N/A | AB10: =VLOOKUP(H10,$AD$1:$AF$7,3,FALSE) -> #N/A | AC10: =VLOOKUP(I10,$AD$1:$AF$7,3,FALSE) -> #N/A
A11: D | B11: 治療法 | C11: 1 | D11: 術前・術後 | E11: 一次治療 | F11: 二次治療以降 | J11: =IF(G11="","",$C11*AA11) | K11: =IF(H11="","",$C11*AB11) | L11: =IF(I11="","",$C11*AC11) | AA11: =VLOOKUP(G11,$AD$1:$AF$7,3,FALSE) -> #N/A | AB11: =VLOOKUP(H11,$AD$1:$AF$7,3,FALSE) -> #N/A | AC11: =VLOOKUP(I11,$AD$1:$AF$7,3,FALSE) -> #N/A
A12: E | B12: 併用薬の使用 | C12: 1 | D12: × 併用する同効薬の種類 | J12: =IF(G12="","",$C12*G12) | K12: =IF(H12="","",$C12*H12) | L12: =IF(I12="","",$C12*I12)
A13: F | B13: 治験薬の投与経路 | C13: 1 | D13: 内用・外用 | E13: 皮下・筋注 | F13: 静注・左記以外 | J13: =IF(G13="","",$C13*AA13) | K13: =IF(H13="","",$C13*AB13) | L13: =IF(I13="","",$C13*AC13) | M13: ↓1サイクル（コース）あたりの週数が決められている場合、群毎に記載してください。 | AA13: =VLOOKUP(G13,$AD$1:$AF$7,3,FALSE) -> #N/A | AB13: =VLOOKUP(H13,$AD$1:$AF$7,3,FALSE) -> #N/A | AC13: =VLOOKUP(I13,$AD$1:$AF$7,3,FALSE) -> #N/A
A14: G | B14: 治験薬の投与期間 | C14: 3 | D14: 4週間以内 | E14: 5～24週 | F14: 25週～49週、50週以上は25週毎に9ポイント加算する。 | G14: =PROFILE入力!C14 -> 0 | J14: =IF(G14="","",AA14) -> 0 | K14: =IF(H14="","",AB14) | L14: =IF(I14="","",AC14) | N14: 記載例： A群○週/サイクル、B群△週/サイクル | AA14: =IF(G14=0,0,IF(G14<=4,3,IF(G14<=24,9,IF(G14<=49,15,IF(G14<75,24,IF(G14<100,33,IF(G14<125,42,IF(G14<150,51,60)))))))) -> 0 | AB14: =IF(H14=0,0,IF(H14<=4,3,IF(H14<=24,9,IF(H14<=49,15,IF(H14<75,24,IF(H14<100,33,IF(H14<125,42,IF(H14<150,51,60)))))))) -> 0 | AC14: =IF(I14=0,0,IF(I14<=4,3,IF(I14<=24,9,IF(I14<=49,15,IF(I14<75,24,IF(I14<100,33,IF(I14<125,42,IF(I14<150,51,60)))))))) -> 0
A15: H | B15: 被験者層 | C15: 1 | D15: 成人 | E15: 小児 | J15: =IF(G15="","",$C15*AA15) | K15: =IF(H15="","",AB15) | L15: =IF(I15="","",AC15) | AA15: =VLOOKUP(G15,$AD$1:$AF$7,3,FALSE) -> #N/A | AB15: =VLOOKUP(H15,$AD$1:$AF$7,3,FALSE) -> #N/A | AC15: =VLOOKUP(I15,$AD$1:$AF$7,3,FALSE) -> #N/A
A16: I | B16: 検体の搬送 | C16: 1 | D16: 有り（国内） | E16: 有り（海外） | J16: =IF(G16="","",$C16*AA16) | K16: =IF(H16="","",$C16*AB16) | L16: =IF(I16="","",AC16) | AA16: =VLOOKUP(G16,$AD$1:$AF$7,3,FALSE) -> #N/A | AB16: =VLOOKUP(H16,$AD$1:$AF$7,3,FALSE) -> #N/A | AC16: =VLOOKUP(I16,$AD$1:$AF$7,3,FALSE) -> #N/A
A17: J | B17: 観察頻度（受診回数） | C17: 3 | D17: 4週に1回以下 | E17: 4週に1回超～2回以下 | F17: 4週に2回超 | J17: =IF(G17="","",$C17*AA17) | K17: =IF(H17="","",$C17*AB17) | L17: =IF(I17="","",$C17*AC17) | AA17: =VLOOKUP(G17,$AD$1:$AF$7,3,FALSE) -> #N/A | AB17: =VLOOKUP(H17,$AD$1:$AF$7,3,FALSE) -> #N/A | AC17: =VLOOKUP(I17,$AD$1:$AF$7,3,FALSE) -> #N/A
A18: K | B18: 一般的臨床検査＋非侵襲的機能検査及び画像診断項目数 | C18: 1 | D18: 49以下 | E18: 50～99 | F18: 100以上 | J18: =IF(G18="","",$C18*AA18) | K18: =IF(H18="","",$C18*AB18) | M18: K～Qについて、回数の根拠を、G列のコメント欄に記載してください。 記載例： 根拠資料：プロトコルp10参照 回数の根拠：CT/MRI：Scr、6W、12W（3回）、骨シンチ：Scr（1回）→症例4回、脱落2回 | AA18: =VLOOKUP(G18,$AD$1:$AF$7,3,FALSE) -> #N/A | AB18: =VLOOKUP(H18,$AD$1:$AF$7,3,FALSE) -> #N/A | AC18: =VLOOKUP(I18,$AD$1:$AF$7,3,FALSE) -> #N/A
A19: L | B19: 侵襲的機能検査及び 画像診断回数 | C19: 3 | D19: × 回数 | I19: 実績による | J19: =IF(G19="","",$C19*G19) | K19: =IF(H19="","",$C19*H19) | M19: 回数のカウントは、同意から28行目に記載する期間までに発生する回数を「症例」に、同意から治験薬投与前までに発生する回数を「脱落」に入力してください。
A20: M | B20: 特殊検査 | C20: 2 | D20: × 回数 | J20: =IF(G20="","",$C20*G20) | K20: =IF(H20="","",$C20*H20)
A21: N | B21: 生検回数 | C21: 5 | D21: × 回数 | J21: =IF(G21="","",$C21*G21) | K21: =IF(H21="","",$C21*H21) | M21: 任意の検査がある場合に回数として計上するか否かは、実施する可能性が高いかどうかや、治験責任医師と協議する等の上で決定してください。結果的に計上しない場合、計上しない理由をコメント欄に記載してください。
A22: O | B22: 画像等複写資料提供回数 | C22: 1 | D22: × 回数 | I22: 実績による | J22: =IF(G22="","",$C22*G22) | K22: =IF(H22="","",$C22*H22)
A23: P | B23: 病理標本作製回数 | C23: 3 | D23: × 回数 | J23: =IF(G23="","",$C23*G23) | K23: =IF(H23="","",$C23*H23)
A24: Q | B24: QOL調査 | C24: 1 | D24: × 回数 | I24: 実績による | J24: =IF(G24="","",$C24*G24) | K24: =IF(H24="","",$C24*H24)
A25: R | B25: 生存調査 | C25: 1 | D25: × 回数 | I25: 実績による | J25: =IF(G25="","",$C25*G25) | K25: =IF(H25="","",$C25*H25)
A26: S | B26: 相の種類 | C26: 5 | D26: Ⅱ相・Ⅲ相・ 拡大治験・Ⅳ相 | E26: Ⅰ相 | F26: Ⅰ相（first-in-man） | G26: =IF(PROFILE入力!C8="","",PROFILE入力!C8) | J26: =IF(G26="","",$C26*AA26) | K26: =IF(H26="","",$C26*AB26) | L26: =IF(I26="","",$C26*AC26) | AA26: =VLOOKUP(G26,$AE$1:$AF$7,2,FALSE) -> #N/A | AB26: =VLOOKUP(H26,$AE$2:$AF$7,2,FALSE) -> #N/A | AC26: =VLOOKUP(I26,$AE$2:$AF$7,2,FALSE) -> #N/A
J27: =SUM(J8:J26) -> 0 | K27: =SUM(K8:K26) -> 0
B28: 算出額：臨床試験研究経費 ＝ 合計ポイント数 × 6,000円 | G28: 「症例」：○○までの費用を計上。 | M28: ○○を埋めてください。 「追跡」の費用と区別するため、「症例」に含めた範囲（期間の終わり）を、治験実施計画書の記載に基づき埋めてください。例：治験薬投与終了後30日（安全性フォローアップ来院）までの費用を計上。 以降に発生した業務に関する費用については、「追跡」の費用として請求します。
A30: 算定根拠
A31: G： | B31: =IF(PROFILE入力!C15="","",PROFILE入力!C15)
A32: =IF(PROFILE入力!C17="","","（P1・P2）第1期_期間（根拠）：") | C32: =IF(PROFILE入力!C17="","",PROFILE入力!C17) | D32: =IF(PROFILE入力!C17="","",PROFILE入力!C18)
A33: =IF(PROFILE入力!C17="","","（P1・P2）第2期_期間：") | C33: =IF(PROFILE入力!C17="","",PROFILE入力!D17)

Sheet 別紙２
I1: 別紙２ | AE1: なし | AG1: 0 | AI1: 調製後の使用期限あり | AJ1: 10
D2: 治験薬管理経費ポイント算出表 | H2: =IF(PROFILE入力!$C$20="","",PROFILE入力!$C$20) | AF2: Ⅳ相 | AG2: 1 | AI2: 調製後の使用期限なし | AJ2: 7
A3: 個々の治験について、要素毎に該当するポイントを求め、そのポイントを合計したものをその試験のポイント数とする。 | AF3: Ⅲ相 | AG3: 1
H4: ↓ 入力してください | I4: =IF(PROFILE入力!C22="","",PROFILE入力!D22) | AE4: Ⅰ | AF4: Ⅱ相 | AG4: 1
D5: ウエイト | F5: ポ イ ン ト | H5: 緑：選択 | AE5: Ⅱ | AF5: Ⅰ相 | AG5: 2
B6: 要 素 | C6: 治験薬 規格数 | E6: Ⅰ | F6: Ⅱ | G6: Ⅲ | H6: 橙：入力 | I6: ポイント数 | AE6: Ⅲ | AF6: Ⅰ相（first-in-man） | AG6: 3
E7: （ウエイト×1） | F7: （ウエイト×2） | G7: （ウエイト×3） | H7: 投薬 | I7: 投薬
A8: A | B8: 治験薬の剤型 | D8: 2 | E8: 内服・外用 | F8: 皮下・筋注 | G8: 静注・特殊 | I8: =IF($I$4="",IF(H8="","",$D8*AB8),"") | AB8: =VLOOKUP(H8,$AE$1:$AG$6,3,FALSE) -> #N/A
A9: B | B9: デザイン | D9: 2 | E9: 非対照・非盲検 | F9: 対照・非盲検 | G9: 対照・盲検 | I9: =IF($I$4="",IF(H9="","",$D9*AB9),"") | AB9: =VLOOKUP(H9,$AE$1:$AG$6,3,FALSE) -> #N/A
A10: C | B10: 薬剤師による盲検業務 | D10: 10 | E10: 有 | I10: =IF($I$4="",IF(H10="","",$D10*AB10),"") | AB10: =VLOOKUP(H10,$AE$1:$AG$6,3,FALSE) -> #N/A
A11: D | B11: 特殊説明文書、特殊資材等の作成 | D11: 2 | E11: 有 | I11: =IF($I$4="",IF(H11="","",$D11*AB11),"") | AB11: =VLOOKUP(H11,$AE$1:$AG$6,3,FALSE) -> #N/A
A12: E | B12: 投与期間 | D12: 3 | E12: 4週間以内 | F12: 5～24週 | G12: 25週～49週、50週以上は25週毎に9ポイント加算する。 | H12: =PROFILE入力!C14 -> 0 | I12: =IF($I$4="",IF(H12="","",AB12),"") -> 0 | AB12: =IF(H12=0,0,IF(H12<=4,3,IF(H12<=24,6,IF(H12<=49,9,IF(H12<75,18,IF(H12<100,27,IF(H12<125,36,IF(H12<150,51,45)))))))) -> 0
A13: F | B13: 調剤及び出庫回数 | D13: 2 | E13: 4週に1回以下 | F13: 4週に1回超～ 2回以下 | G13: 4週に2回超 | I13: =IF($I$4="",IF(H13="","",$D13*AB13),"") | AB13: =VLOOKUP(H13,$AE$1:$AG$6,3,FALSE) -> #N/A
A14: G | B14: 治験薬の種目 | D14: 5 | G14: 麻薬・放射性医薬品 | I14: =IF($I$4="",IF(H14="","",$D14*AB14),"") | AB14: =VLOOKUP(H14,$AE$1:$AG$6,3,FALSE) -> #N/A
A15: H1 | B15: 治験薬保存状況 （ ） | D15: 2 | E15: 室温 | F15: 冷所 | G15: その他温度指定 | I15: =IF($I$4="",IF(H15="","",$D15*$C15*AB15),"") | J15: 括弧内に治験薬名を記載。 白箱提供薬剤が複数の場合は、行を挿入して薬剤ごとに設定。 | AB15: =VLOOKUP(H15,$AE$1:$AG$6,3,FALSE) -> #N/A
A16: H2 | B16: 治験薬保存状況 （ ） | D16: 2 | E16: 室温 | F16: 冷所 | G16: その他温度指定 | I16: =IF($I$4="",IF(H16="","",$D16*$C16*AB16),"") | AB16: =VLOOKUP(H16,$AE$1:$AG$6,3,FALSE) -> #N/A
A17: I | B17: 治験薬（白箱）以外の併用薬（同効薬） | D17: 2 | E17: × 種類 | I17: =IF($I$4="",IF(H17="","",$D17*H17),"")
A18: J1 | B18: 注射薬調製 （ ） | D18: =IF(E18="",7,VLOOKUP(E18,$AI$1:$AJ$2,2,FALSE)) -> 7 | E18: 調製後の使用期限なし | G18: × 回数 | I18: =IF($I$4="",IF(H18="","",$D18*H18),"") | J18: 括弧内に注射薬剤名を記載。 注射薬が複数の場合は、行を挿入して薬剤ごとに設定しても可。（複数の注射薬でウエイトが同じ場合はまとめても可）
A19: J2 | B19: 注射薬調製 （ ） | D19: =IF(E19="",7,VLOOKUP(E19,$AI$1:$AJ$2,2,FALSE)) -> 7 | E19: 調製後の使用期限なし | G19: × 回数 | I19: =IF($I$4="",IF(H19="","",$D19*H19),"")
A20: K | B20: 治験期間（1ヶ月単位） | D20: 1 | E20: × 月数（治験薬の保存・管理） | H20: =AB20 -> 0 | I20: =IF(H20="","",$D20*H20) -> 0 | J20: 予定される治験薬の保存・管理期間から算定。 契約期間（PROFILE入力シート10行目）と治験薬保存・保管期間が異なる場合は、25行目に、その根拠を記載してください。 | AB20: =ROUND(((PROFILE入力!D10-PROFILE入力!C10)/30.41),0) -> 0
A21: L | B21: 治験薬回収 | D21: 2 | E21: 空箱又は空容器 | F21: 空箱+空容器 | I21: =IF($I$4="",IF(H21="","",$D21*AB21),"") | AB21: =VLOOKUP(H21,$AE$1:$AG$6,3,FALSE) -> #N/A
A22: M | B22: 治験依頼者管理手順による温度管理記録 | D22: 1 | E22: × 月数（治験薬の保存・管理） | I22: =IF($I$4="",IF(H22="","",$D22*H22),$D22*H22) | J22: 予定される治験薬の保存・管理期間から算定。 契約期間（PROFILE入力シート10行目）と治験薬保存・保管期間が異なる場合は、25行目に、その根拠を記載してください。
A23: 合計ポイント数 | I23: =SUM(I8:I22) -> 0
B24: 算出額：合計ポイント数 × 1,000円 × 症例数 ＝ 治験薬管理経費
A25: K、Mの期間の根拠： | J25: K、Mの期間が契約期間と異なる場合は、治験薬の保存・管理期間の根拠（搬入～搬出まで）を記載し、印刷範囲に含めて表示させてください。 記載例：治験薬搬入：201●年●月、症例登録期間終了：201●年●月、治験薬投与予定期間●ヶ月より、治験薬搬出を201●年●月と想定し、●ヶ月とした。 | AB25: =30*12 -> 360
A26: A | B26: 治験薬の剤型 | C26: 1 | D26: 1 | E26: 内服・外用 | F26: 注射 | G26: 内服＋注射 | AB26: =365/12 -> 30.416667
A27: B | B27: デザイン | C27: 2 | D27: 2 | E27: 非対照・非盲検 | F27: 対照・非盲検 | G27: 対照・盲検、薬剤師による盲検の場合は2ポイント追加
A28: G | B28: 治験薬の種目 | C28: 5 | D28: 5 | F28: 毒・劇薬（予定） | G28: 向精神薬・麻薬
A29: I | B29: 請求医のチェック | C29: 1 | D29: 1 | E29: 2名以下 | F29: 3～5名 | G29: 6名以上 | J29: 削除

Sheet 別紙３
AD1: 別紙３
A2: 臨床性能試験研究経費ポイント算出表
B3: 個々の体外診断用医薬品の「臨床性能試験（測定項目が新しい品目に係る臨床性能試験のデータを収集する試験をいう）」について、要素毎に該当するポイントを求め、そのポイントを合計したものをその試験のポイント数とする。
A5: 要 素 | H5: ウエイト | I5: ポ イ ン ト
K6: Ⅰ | P6: Ⅱ | U6: Ⅲ | Z6: Ⅳ | AC6: ポイント数
K7: （ウエイト×1） | P7: （ウエイト×2） | U7: （ウエイト×3） | Z7: （ウエイト×5）
A8: A | B8: 検体数 | H8: 10 | P8: 75以下 | U8: 76～150 | Z8: 151以上
A9: B | B9: 負荷試験 | H9: 1 | K9: × 人数
A10: C | B10: 検体採取の難易度 | H10: 1 | I10: 尿、糞便、唾液、喀痰、毛髪、 涙液、汗 | N10: 血液、分泌物、 精液、粘液、 乳汁、滑液 | U10: 胃液、腸液 | X10: 髄液、羊水、 組織、胸水、 腹水、腫瘍内容物
A11: D | B11: 検体の対象 | H11: 1 | K11: 成人 | P11: 小児
A12: E | B12: 検体収集の難易度 | H12: 1 | K12: 希少疾病以外 | U12: 希少疾病対象
A13: F | B13: 経過観察 | H13: 1 | K13: × 人数 × 1/5
A14: G | B14: 測定方法 | H14: 1 | K14: 自動分析法 | P14: 用手法
A15: 合計ポイント数
B16: 算出額： | E16: 合計ポイント数 × 6,000円 ＝ 臨床性能試験研究経費

Sheet 別紙４
AD1: 別紙４
A2: 相関及び性能試験研究経費ポイント算出表
B3: 個々の体外診断用医薬品の「相関及び性能試験（測定項目が新しい品目以外の品目に係る既承認医薬品等との相関性に関するデータを収集するものをいう）」について、要素毎に該当するポイントを求め、そのポイントを合計したものをその試験のポイント数とする。
A5: 要 素 | H5: ウエイト | I5: ポ イ ン ト
K6: Ⅰ | P6: Ⅱ | U6: Ⅲ | Z6: Ⅳ | AC6: ポイント数
K7: （ウエイト×1） | P7: （ウエイト×2） | U7: （ウエイト×3） | Z7: （ウエイト×5）
A8: A | B8: 検体数 | H8: 4 | K8: 50以下 | P8: 51～100以下 | U8: 101～300以下 | Z8: 301以上
A9: Ｂ | B9: 検体採取の難易度 | H9: 1 | I9: 尿、糞便、唾液、喀痰、毛髪、 涙液、汗 | N9: 血液、分泌物、 精液、粘液、 乳汁、滑液 | U9: 胃液、腸液 | X9: 髄液、羊水、 組織、胸水、 腹水、腫瘍内容物
A10: Ｃ | B10: 検体の対象 | H10: 1 | K10: 成人 | P10: 小児
A11: Ｄ | B11: 検体収集の難易度 | H11: 1 | K11: 希少疾病以外 | U11: 希少疾病対象
A12: Ｅ | B12: 測定方法 | H12: 1 | K12: 自動分析法 | P12: 用手法
A13: 合計ポイント数
B14: 算出額： | E14: 合計ポイント数 × 6,000円 ＝ 相関及び性能試験研究経費

Sheet 受領伝票（製販後調査（使用成績・特定使用成績）
D2: 製造販売後調査（使用成績調査・特定使用成績調査）
A4: 項目番号 | B4: 項目名 | F4: 算出方法 | G4: 単価 | H4: 小計 | I4: 備考 | J4: 報告書数 | K4: 項目番号合計
A5: ① | B5: 報告書作成経費 | F5: １報告書＝単価 | G5: 20000 | H5: =G5 -> 20000 | J5: 1 | K5: =H5*J5 -> 20000
A6: ➁ | B6: 事務費 | F6: ①の10％ | G6: ― | H6: =H5*10% -> 2000 | J6: ― | K6: =K5*10% -> 2000
I7: =SUM(I4:I6) -> 0 | J7: 合計 | K7: =SUM(K5:K6) -> 22000
I8: =ROUNDDOWN(I4*0.08,0)+ROUNDDOWN(I5*0.08,0)+ROUNDDOWN(#REF!*0.08,0)+ROUNDDOWN(#REF!*0.08,0) -> #VALUE! | J8: 消費税 | K8: =INT(K7*10%) -> 2200
I9: =I7+I8 -> #VALUE! | J9: 総計（消費税込み） | K9: =SUM(K7:K8) -> 24200
F11: 受領伝票
A12: ＊K番号 | E12: ＊課題名
A13: ＊担当者氏名 | E13: ＊担当者会社名 及び連絡先
A14: 受領日 交付日 | E14: 調査責任者名
A15: １） | B15: 依頼者様は、報告書の受領の際には、本伝票に必要事項を入力・記載の上、必ず調査責任者に提出して下さい。
A16: ２） | B16: 依頼者様は、報告書受領の前に、この書面に①について選択・入力して印刷してください。
B17: ① | C17: 使用成績調査・特定使用成績調査のいずれか該当の単価を入力してください。
A18: ３） | B18: 依頼者様は、「受領伝票」の標題以下の「＊」が付されている項目を記載してください。2）と併せて入力されても問題ありません。
A19: ４） | B19: 調査責任者は、「受領日・交付日」及び「調査責任者名」を記載してください。
A20: ５） | B20: 調査責任者は、４）の後、治験事務室に本伝票を送付してください。なお、請求手続きの関係上、１週間以内にお願いいたします。
B21: 本伝票が提出されない場合、請求手続きが完了しません。
A22: ６） | B22: 郵送等により、受領日と交付日が異なる場合には、本伝票を先に調査責任者に郵送し、調査責任者は交付日を記入してから報告書を郵送してください。
A23: ７） | B23: 治験事務室は、本伝票受領後、治験事務室処理欄を全て記載すること。
B24: 治験事務室処理欄 | D24: 伝票受領日 | E24: 西暦 年 月 日 | G24: 受領者名
D25: Ｖ | H25: Λ
F26: 受領証
C27: 下記のとおり受領いたしました。
F28: 記
B29: 治験事務室処理欄 | D29: 伝票受領日 | E29: 西暦 年 月 日 | G29: 受領者名
A30: １） | B30: 治験事務室は、受領印を押し、受領伝票と受領証にまたがる任意の位置に「Ｖ」字を記入すること。
A31: ２） | B31: 治験事務室は、受領伝票から受領証を切り取り、治験事務室処理欄を全て記載して、調査責任者に返送すること。
A32: ３） | B32: 調査責任者は、本伝票を必ず保管して下さい。請求漏れ等があった場合には、当該受領証を全てご用意の上ご相談ください。
A34: ＊K番号 | C34: =IF(C12="","",C12) | E34: ＊課題名 | F34: =IF(F12="","",F12) | H34: =IF(H12="","",H12) | J34: =IF(J12="","",J12)
E35: 調査責任者名 | F35: =IF(F14="","",F14)

Sheet 受領伝票（製販後調査（副作用・感染症報告）
D2: 製造販売後調査（副作用・感染症報告調査）
A4: 項目番号 | B4: 項目名 | F4: 算出方法 | G4: 単価 | H4: 小計 | I4: 備考 | J4: 活動回数 | K4: 項目番号合計
A5: ① | B5: 報告書作成経費 | F5: １報告書＝単価 | G5: 20000 | H5: =G5 -> 20000 | J5: 1 | K5: =H5*J5 -> 20000
A6: ➁ | B6: 事務費 | F6: ①の10％ | G6: ― | H6: =H5*10% -> 2000 | J6: ― | K6: =K5*10% -> 2000
I7: =SUM(I3:I6) -> 0 | J7: 合計 | K7: =SUM(K5:K6) -> 22000
I8: =ROUNDDOWN(I3*0.05,0)+ROUNDDOWN(I4*0.05,0)+ROUNDDOWN(I5*0.05,0)+ROUNDDOWN(#REF!*0.05,0) -> #VALUE! | J8: 消費税 | K8: =INT(K7*10%) -> 2200
I9: =I7+I8 -> #VALUE! | J9: 総計（消費税込み） | K9: =SUM(K7:K8) -> 24200
F11: 受領伝票
A12: ＊K番号 | E12: ＊課題名
A13: ＊担当者氏名 | E13: ＊担当者会社名 及び連絡先
A14: 受領日 交付日 | E14: 調査責任者名
A15: １） | B15: 依頼者様は、報告書の受領の際には、本伝票に必要事項を入力・記載の上、必ず調査責任者に提出して下さい。
A16: ２） | B16: 依頼者様は、報告書受領の前に、この書面を印刷してください。
A17: ３） | B17: 依頼者様は、「受領伝票」の標題以下の「＊」が付されている項目を記載してください。印刷前に入力されても問題ありません。
A18: ４） | B18: 調査責任者は、「受領日・交付日」及び「調査責任者名」を記載してください。
A19: ５） | B19: 調査責任者は、４）の後、治験事務室に本伝票の送付してください。なお、請求手続きの関係上、１週間以内にお願いいたします。
B20: 本伝票が提出されない場合、請求手続きが完了しません。
A21: ６） | B21: 郵送等により、受領日と交付日が異なる場合には、本伝票を先に調査責任者に郵送し、調査責任者は交付日を記入してから報告書を郵送してください。
A22: ７） | B22: 治験事務室は、本伝票受領後、治験事務室処理欄を全て記載すること。
B23: 治験事務室処理欄 | D23: 伝票受領日 | E23: 西暦 年 月 日 | G23: 受領者名
D25: Ｖ | H25: Λ
F26: 受領証
C27: 下記のとおり受領いたしました。
F28: 記
B29: 治験事務室処理欄 | D29: 伝票受領日 | E29: 西暦 年 月 日 | G29: 受領者名
A30: １） | B30: 治験事務室は、受領印を押し、受領伝票と受領証にまたがる任意の位置に「Ｖ」字を記入すること。
A31: ２） | B31: 治験事務室は、受領伝票から受領証を切り取り、治験事務室処理欄を全て記載して、調査責任者に返送すること。
A32: ３） | B32: 調査責任者は、本伝票を必ず保管して下さい。請求漏れ等があった場合には、当該受領証を全てご用意の上ご相談ください。
A34: ＊K番号 | C34: =IF(C12="","",C12) | E34: ＊課題名 | F34: =IF(F12="","",F12) | H34: =IF(H12="","",H12) | J34: =IF(J12="","",J12)
E35: 調査責任者名 | F35: =IF(F14="","",F14)

Sheet 債権
A1: （第１号書式） | J1: =PROFILE入力!C20 -> 0
D2: 債 権 発 生 通 知 書
E4: 債務者の住所 | G4: =PROFILE入力!C4 -> 0
A5: 債 権 金 額 | C5: =積算書!L37+積算書!L68 -> 786500 | E5: 及び氏名又は | G5: =PROFILE入力!C2 -> 0
E6: 名 称 | G6: =PROFILE入力!C3 -> 0
C8: 新規課題
A9: 発 生 原 因 | C9: 課題 ： | E9: =PROFILE入力!C5 -> 0
A14: そ の 他
C15: 治験責任医師 ： | E15: =PROFILE入力!C9 -> 0
A18: 発 生 年 度 | C18: =PROFILE入力!C29-90 -> -90 | E18: 債 権 の 種 類 | G18: 受託調査及び試験手数料債権
A21: 履 行 期 限
A25: 特 記
A28: 事 項
B34: 上記のとおり債権が発生したので通知する。
C37: =PROFILE入力!C29 -> 0
D41: 契約担当者 国立研究開発法人国立がん研究センター東病院
E43: 院長 大津 敦

Sheet 分担医師
A1: 43558
A2: 氏名 | B2: 所属 | C2: 算定ファイル用所属 （東病院／EPOC）
A3: 池田 公史 | B3: 肝胆膵内科 | C3: 東病院
A4: 池松 弘朗 | B4: 消化管内視鏡科 | C4: 東病院
A5: 宇田川 響 | B5: 呼吸器内科 | C5: 東病院
A6: 梅村 茂樹 | B6: 呼吸器内科 | C6: 東病院
A7: 大野 泉 | B7: 肝胆膵内科 | C7: 東病院
A8: 岡野 晋 | B8: 頭頸部内科 | C8: 東病院
A9: 岡本 渉 | B9: 先端医療開発センター トランスレーショナルリサーチ分野 | C9: 先端医療開発センター | D9: 退職
A10: 桐田 圭輔 | B10: 呼吸器内科 | C10: 東病院
A11: 久保木 恭利 | B11: 消化管内科 | C11: 東病院
A12: 古川 孝広 | B12: 先端医療科 | C12: 東病院
A13: 小島 隆嗣 | B13: 消化管内科 | C13: 東病院
A14: 後藤 功一 | B14: 呼吸器内科 | C14: 東病院
A15: 後藤田 直人 | B15: 肝胆膵外科 | C15: 東病院
A16: 小西 大 | B16: 肝胆膵外科 | C16: 東病院
A17: 設楽 紘平 | B17: 先端医療科 | C17: 東病院
A18: 高橋 秀明 | B18: 先端医療科 | C18: 東病院
A19: 田原 信 | B19: 頭頸部内科 | C19: 東病院
A20: 坪井 正博 | B20: 呼吸器外科 | C20: 東病院
A21: 土井 俊彦 | B21: 先端医療科 | C21: 東病院
... A25: 原野 謙一 | B25: 先端医療科 | C25: 東病院
A26: 坂東 英明 | B26: 消化管内科 | C26: 東病院 | D26: 退職
A27: 布施 望 | B27: 消化管内科 | C27: 東病院
A28: 松原 伸晃 | B28: 化学療法科 | C28: 東病院
A29: 松本 慎吾 | B29: 先端医療開発センター トランスレーショナルリサーチ分野 | C29: 先端医療開発センター
A30: 光永 修一 | B30: 肝胆膵内科 | C30: 東病院
A31: 向井 博文 | B31: 化学療法科 | C31: 東病院
A32: 栁下 淳 | B32: TR分野 | C32: 先端医療開発センター
A33: 矢野 友規 | B33: 消化管内視鏡科 | C33: 東病院
A34: 葉 清隆 | B34: 先端医療科 | C34: 東病院
A35: 吉野 孝之 | B35: 消化管内科 | C35: 東病院
A36: 南 陽介 | B36: 血液腫瘍内科 | C36: 東病院
A37: 向原 徹 | B37: 乳腺・腫瘍内科 | C37: 東病院
A38: 青景 圭樹 | B38: 呼吸器外科 | C38: 東病院
... A52: 野崎 要 | B52: 呼吸器内科 | C52: 東病院
